{"text_format":"1","workbook":"xlsx","n_sheets":3,"sheets":["OB RFR","Tariff","Export & Import ZONE"],"not_rendered":{"charts":0,"images":1,"macros":1,"external_links":0,"defined_names":2,"comments":0,"pivot_tables":0},"unopened":[],"bounds":{"document_bytes":16777216,"sheet_cells":100000,"rows_first":2000,"rows_last":500,"rows_between":2000,"halvings":0,"cell_chars":16384,"cell_head_chars":4096},"cells_cut":0,"cells_raw":0,"read":"whole","date_system":"1900"}

{"sheet":"OB RFR","index":0,"n_rows":67,"n_cols":21,"rows_kept":67,"cut":false,"hidden":false,"merged":[[2,11,3,20],[4,13,4,20],[5,13,5,20],[6,0,7,16],[6,17,6,20],[8,0,8,20],[11,0,11,1],[11,2,11,8],[11,9,11,10],[11,11,11,13],[11,14,11,15],[11,16,11,20],[9,1,9,3],[9,4,9,6],[9,7,9,8],[9,9,9,12],[9,13,9,20],[10,0,10,1],[10,2,10,8],[10,9,10,12],[10,13,10,20],[2,0,4,3],[13,1,13,3],[13,4,13,5],[13,6,13,8],[13,9,13,12],[13,13,13,20],[14,0,14,8],[14,9,14,20],[12,0,12,1],[12,2,12,8],[12,9,12,10],[12,11,12,13],[12,14,12,15],[12,16,12,20],[15,0,15,16],[16,0,17,0],[16,1,16,2],[16,3,16,4],[16,5,16,6],[16,7,16,8],[16,9,16,10],[16,11,16,12],[16,13,16,14],[16,15,16,16],[16,17,16,18],[16,19,16,20],[20,1,20,2],[20,3,20,4],[20,5,20,6],[20,7,20,8],[20,9,20,10],[20,11,20,12],[20,13,20,14],[20,15,20,16],[21,17,21,18],[21,19,21,20],[22,0,22,14],[22,15,22,17],[22,18,22,20],[23,0,23,16],[20,17,20,18],[20,19,20,20],[21,1,21,2],[21,3,21,4],[21,5,21,6],[21,7,21,8],[21,9,21,10],[21,11,21,12],[21,13,21,14],[21,15,21,16],[25,13,25,14],[25,15,25,16],[25,17,25,18],[25,19,25,20],[27,0,27,20],[28,1,28,2],[28,3,28,4],[28,5,28,6],[28,7,28,8],[28,9,28,10],[25,1,25,2],[25,3,25,4],[25,5,25,6],[25,7,25,8],[25,9,25,10],[25,11,25,12],[28,11,28,12],[28,13,28,14],[28,15,28,16],[28,17,28,18],[28,19,28,20],[35,19,35,20],[36,1,36,2],[36,3,36,4],[36,5,36,6],[36,7,36,8],[36,9,36,10],[37,11,37,12],[37,13,37,14],[37,15,37,16],[37,17,37,18],[37,19,37,20],[35,1,35,2],[35,3,35,4],[35,5,35,6],[35,7,35,8],[35,9,35,10],[35,11,35,12],[35,13,35,14],[35,15,35,16],[35,17,35,18],[36,11,36,12],[36,13,36,14],[36,15,36,16],[36,17,36,18],[36,19,36,20],[37,1,37,2],[37,3,37,4],[37,5,37,6],[37,7,37,8],[37,9,37,10],[38,13,38,14],[38,15,38,16],[38,17,38,18],[38,19,38,20],[39,1,39,2],[39,3,39,4],[39,5,39,6],[39,7,39,8],[39,9,39,10],[39,11,39,12],[38,1,38,2],[38,3,38,4],[38,5,38,6],[38,7,38,8],[38,9,38,10],[38,11,38,12],[39,13,39,14],[39,15,39,16],[39,17,39,18],[39,19,39,20],[40,19,40,20],[41,1,41,2],[41,3,41,4],[41,5,41,6],[41,7,41,8],[41,9,41,10],[41,11,41,12],[41,13,41,14],[41,15,41,16],[41,17,41,18],[41,19,41,20],[40,1,40,2],[40,3,40,4],[40,5,40,6],[40,7,40,8],[40,9,40,10],[40,11,40,12],[40,13,40,14],[40,15,40,16],[40,17,40,18],[42,19,42,20],[43,1,43,2],[43,3,43,4],[43,5,43,6],[43,7,43,8],[43,9,43,10],[43,11,43,12],[43,13,43,14],[43,15,43,16],[43,17,43,18],[43,19,43,20],[42,1,42,2],[42,3,42,4],[42,5,42,6],[42,7,42,8],[42,9,42,10],[42,11,42,12],[42,13,42,14],[42,15,42,16],[42,17,42,18],[44,19,44,20],[45,1,45,2],[45,3,45,4],[45,5,45,6],[45,7,45,8],[45,9,45,10],[45,11,45,12],[45,13,45,14],[45,15,45,16],[45,17,45,18],[45,19,45,20],[44,1,44,2],[44,3,44,4],[44,5,44,6],[44,7,44,8],[44,9,44,10],[44,11,44,12],[44,13,44,14],[44,15,44,16],[44,17,44,18],[46,19,46,20],[47,1,47,2],[47,3,47,4],[47,5,47,6],[47,7,47,8],[47,9,47,10],[47,11,47,12],[47,13,47,14],[47,15,47,16],[47,17,47,18],[47,19,47,20],[46,1,46,2],[46,3,46,4],[46,5,46,6],[46,7,46,8],[46,9,46,10],[46,11,46,12],[46,13,46,14],[46,15,46,16],[46,17,46,18],[57,10,58,12],[57,13,58,20],[49,0,50,20],[51,0,55,20],[48,13,48,14],[48,15,48,16],[48,17,48,18],[48,19,48,20],[48,1,48,2],[48,3,48,4],[48,5,48,6],[48,7,48,8],[48,9,48,10],[48,11,48,12],[56,0,56,20],[57,0,58,1],[57,2,58,7],[57,8,58,9],[63,0,63,1],[63,2,63,5],[63,6,63,7],[63,8,63,10],[63,11,63,13],[63,14,63,20],[62,0,62,1],[62,2,62,5],[62,6,62,7],[62,8,62,10],[62,11,62,13],[62,14,62,20],[66,0,66,1],[65,0,65,1],[65,2,65,5],[65,6,65,7],[65,8,65,10],[65,11,65,13],[65,14,65,20],[64,0,64,1],[64,2,64,5],[64,6,64,7],[64,8,64,10],[64,11,64,13],[64,14,64,20],[29,19,29,20],[30,1,30,2],[30,3,30,4],[30,5,30,6],[30,7,30,8],[30,9,30,10],[30,11,30,12],[30,13,30,14],[30,15,30,16],[30,17,30,18],[30,19,30,20],[29,1,29,2],[29,3,29,4],[29,5,29,6],[29,7,29,8],[29,9,29,10],[29,11,29,12],[29,13,29,14],[29,15,29,16],[29,17,29,18],[31,19,31,20],[32,1,32,2],[32,3,32,4],[32,5,32,6],[32,7,32,8],[32,9,32,10],[32,11,32,12],[32,13,32,14],[32,15,32,16],[32,17,32,18],[32,19,32,20],[31,1,31,2],[31,3,31,4],[31,5,31,6],[31,7,31,8],[31,9,31,10],[31,11,31,12],[31,13,31,14],[31,15,31,16],[31,17,31,18],[33,19,33,20],[34,1,34,2],[34,3,34,4],[34,5,34,6],[34,7,34,8],[34,9,34,10],[34,11,34,12],[34,13,34,14],[34,15,34,16],[34,17,34,18],[34,19,34,20],[33,1,33,2],[33,3,33,4],[33,5,33,6],[33,7,33,8],[33,9,33,10],[33,11,33,12],[33,13,33,14],[33,15,33,16],[33,17,33,18],[61,0,61,1],[61,2,61,5],[61,6,61,7],[61,8,61,10],[61,11,61,13],[61,14,61,20],[60,0,60,1],[60,2,60,5],[60,6,60,7],[60,8,60,10],[60,11,60,13],[60,14,60,20]]}
[]
[]
[null,null,null,null,null,null,null,null,null,null,null,"SMSA Outbound Request for Rates"]
[]
[null,null,null,null,null,null,null,null,null,null,null,null,null,"Owner/ Department : IBU-KWT, Sales "]
[]
["KWT  Sales - Request for Rates (RFR)"]
[]
["Customer Details"]
["New A/c","YES",null,null,"Existing Account Number",null,null,null,null,"Company Name",null,null,null,"Al Nawwwar Wholesale And Retail co"]
["Main Contact Name",null,"Mr. Aliasgar",null,null,null,null,null,null,"Company Activity",null,null,null,"SkinCare products/Cosmetics"]
["Position",null,"Managing Director",null,null,null,null,null,null,"P.O Box",null,null,null,null,"Website"]
["Email Id ",null,"ali.asgar@nawwwar.com",null,null,null,null,null,null,"Pin Code",null," ",null,null,"CR.No",null,"2022/8848"]
["Telephone","97465214",null,null,"Fax No",null,"NIL ",null,null,"Physical Location ",null,null,null,"Hawally, Bin Alkhaldoun Street , Lulwa Complex"]
[]
["Customer Shipping Profile & Monthly Revenue Forecast"]
["Product / Dest","Zone 1",null,"Zone 2",null,"Zone 3",null,"Zone 4",null,"Zone 5",null,"Zone 6",null,"Zone 7",null,"Zone 8",null,"Zone 9",null,"Zone 10"]
[null,"Vol/Wk","Price","Vol/Wk","Price","Vol/Wk","Price","Vol/Wk","Price","Vol/Wk","Price","Vol/Wk","Price","Vol/Wk","Price","Vol/Wk","Price","Vol/Wk","Price","Vol/Wk","Price"]
["Intl Docs (SIDX)",0,{"$f":"+B19*B21*B36","v":0},0,{"$f":"+D19*D21*D36","v":0},0,{"$f":"+F19*F21*F36","v":0},0,{"$f":"+H19*H21*H36","v":0},0,{"$f":"+J19*J21*J36","v":0},0,{"$f":"+L19*L21*L36","v":0},0,{"$f":"+N19*N21*N36","v":0},0,{"$f":"+P19*P21*P36","v":0},0,{"$f":"+R19*R21*R36","v":0},0,{"$f":"+T19*T21*T36","v":0}]
["Intl Par (SIND)",30,{"$f":"+B20*B22*B40","v":675.83587499999999},20,{"$f":"+D20*D22*D40","v":343.70049999999992},0,{"$f":"+F20*F22*F40","v":0},0,{"$f":"+H20*H22*H40","v":0},0,{"$f":"+J20*J22*J40","v":0},0,{"$f":"+L20*L22*L40","v":0},0,{"$f":"+N20*N22*N40","v":0},0,{"$f":"+P20*P22*P40","v":0},0,{"$f":"+R20*R22*R40","v":0},0,{"$f":"+T20*T22*T40","v":0}]
["Avg Wt. (SIDX)",1,null,1,null,1,null,1,null,1,null,1,null,1,null,1,null,1,null,1]
["Avg Wt. (SIND)",1.5,null,1,null,1,null,1,null,1,null,1,null,1,null,1,null,1,null,1]
[" ",null,null,null,null,null,null,null,null,null,null,null,null,null,null,"Totlal Revenue (KWD)",null,null,{"$f":"+(C19+C20+E19+E20+G19+G20+I19+I20+K19+K20+M19+M20+O19+O20+Q19+Q20+S19+S20+U19+U20)*4","v":4078.1454999999996}]
["Requested International Rates"]
["Product/Dest","Zone 1","%","Zone 2","%","Zone  3","%","Zone 4","%","Zone  5","%","Zone  6","%","Zone 7","%","Zone 8","%","Zone  9","%","Zone 10","%"]
[" ",{"$f":"+Tariff!$E$26","v":"KWT/OB/GMT"},null,{"$f":"+Tariff!$E$26","v":"KWT/OB/GMT"},null,{"$f":"+Tariff!$E$26","v":"KWT/OB/GMT"},null,{"$f":"+Tariff!$E$26","v":"KWT/OB/GMT"},null,{"$f":"+Tariff!$E$26","v":"KWT/OB/GMT"},null,{"$f":"+Tariff!$E$26","v":"KWT/OB/GMT"},null,{"$f":"+Tariff!$E$26","v":"KWT/OB/GMT"},null,{"$f":"+Tariff!$E$26","v":"KWT/OB/GMT"},null,{"$f":"+Tariff!$E$26","v":"KWT/OB/GMT"},null,{"$f":"+Tariff!$E$26","v":"KWT/OB/GMT"}]
[null,"Price",null,"Price",null,"Price",null,"Price",null,"Price",null,"Price",null,"Price",null,"Price",null,"Price",null,"Price"]
["SMSA Intl Doc (SIDX) &Intl Non Docs (SIND)"]
["0.5 kg",{"$f":"Tariff!E3","v":5.0979500000000009},null,{"$f":"Tariff!F3","v":5.9648874999999997},null,{"$f":"Tariff!G3","v":6.2634000000000007},null,{"$f":"Tariff!G3","v":6.2634000000000007},null,{"$f":"Tariff!H3","v":6.7013375000000011},null,{"$f":"Tariff!I3","v":8.376224999999998},null,{"$f":"Tariff!J3","v":8.7944999999999993},null,{"$f":"Tariff!K3","v":10.1154625},null,{"$f":"+Tariff!L3","v":11.432850000000002},null,{"$f":"+Tariff!M3","v":0}]
["1.0 kg",{"$f":"Tariff!E4","v":5.5448249999999994},null,{"$f":"Tariff!F4","v":6.4707499999999989},null,{"$f":"Tariff!G4","v":6.7942874999999994},null,{"$f":"Tariff!G4","v":6.7942874999999994},null,{"$f":"Tariff!H4","v":7.2697624999999988},null,{"$f":"Tariff!I4","v":9.08765},null,{"$f":"Tariff!J4","v":9.5416749999999979},null,{"$f":"Tariff!K4","v":10.975250000000003},null,{"$f":"+Tariff!L4","v":12.403462500000003},null,{"$f":"+Tariff!M4","v":0}]
["1.5 kg",{"$f":"Tariff!E5","v":5.9917000000000016},null,{"$f":"Tariff!F5","v":6.9766125000000017},null,{"$f":"Tariff!G5","v":7.325174999999998},null,{"$f":"Tariff!G5","v":7.325174999999998},null,{"$f":"Tariff!H5","v":7.8381875000000001},null,{"$f":"Tariff!I5","v":9.799075000000002},null,{"$f":"Tariff!J5","v":10.28885},null,{"$f":"Tariff!K5","v":11.835037499999999},null,{"$f":"+Tariff!L5","v":13.374075000000005},null,{"$f":"+Tariff!M5","v":0}]
["2.0 kg",{"$f":"Tariff!E6","v":6.4385750000000002},null,{"$f":"Tariff!F6","v":7.4824750000000009},null,{"$f":"Tariff!G6","v":7.8560625000000002},null,{"$f":"Tariff!G6","v":7.8560625000000002},null,{"$f":"Tariff!H6","v":8.4066125000000014},null,{"$f":"Tariff!I6","v":10.5105},null,{"$f":"Tariff!J6","v":11.036025000000002},null,{"$f":"Tariff!K6","v":12.694825000000002},null,{"$f":"+Tariff!L6","v":14.344687499999999},null,{"$f":"+Tariff!M6","v":0}]
["2.5 kg",{"$f":"Tariff!E7","v":6.8854499999999987},null,{"$f":"Tariff!F7","v":7.9883375000000001},null,{"$f":"Tariff!G7","v":8.3869499999999988},null,{"$f":"Tariff!G7","v":8.3869499999999988},null,{"$f":"Tariff!H7","v":8.9750374999999991},null,{"$f":"Tariff!I7","v":11.221924999999999},null,{"$f":"Tariff!J7","v":11.783200000000001},null,{"$f":"Tariff!K7","v":13.554612500000005},null,{"$f":"+Tariff!L7","v":15.315300000000001},null,{"$f":"+Tariff!M7","v":0}]
["3.0 kg",{"$f":"Tariff!E8","v":8.0473250000000007},null,{"$f":"Tariff!F8","v":9.3021499999999975},null,{"$f":"Tariff!G8","v":9.7668999999999997},null,{"$f":"Tariff!G8","v":9.7668999999999997},null,{"$f":"Tariff!H8","v":10.4515125},null,{"$f":"Tariff!I8","v":13.0702},null,{"$f":"Tariff!J8","v":13.724424999999997},null,{"$f":"Tariff!K8","v":15.787199999999999},null,{"$f":"+Tariff!L8","v":17.83925},null,{"$f":"+Tariff!M8","v":0}]
["3.5 kg",{"$f":"Tariff!E9","v":9.2092000000000027},null,{"$f":"Tariff!F9","v":10.615962499999998},null,{"$f":"Tariff!G9","v":11.146850000000001},null,{"$f":"Tariff!G9","v":11.146850000000001},null,{"$f":"Tariff!H9","v":11.9279875},null,{"$f":"Tariff!I9","v":14.918475000000001},null,{"$f":"Tariff!J9","v":15.665649999999999},null,{"$f":"Tariff!K9","v":18.0197875},null,{"$f":"+Tariff!L9","v":20.363199999999999},null,{"$f":"+Tariff!M9","v":0}]
["4.0 kg",{"$f":"Tariff!E10","v":10.371074999999998},null,{"$f":"Tariff!F10","v":11.929774999999999},null,{"$f":"Tariff!G10","v":12.526800000000001},null,{"$f":"Tariff!G10","v":12.526800000000001},null,{"$f":"Tariff!H10","v":13.404462500000001},null,{"$f":"Tariff!I10","v":16.766750000000002},null,{"$f":"Tariff!J10","v":17.606875000000002},null,{"$f":"Tariff!K10","v":20.252375000000001},null,{"$f":"+Tariff!L10","v":22.887150000000005},null,{"$f":"+Tariff!M10","v":0}]
["4.5 kg",{"$f":"Tariff!E11","v":11.53295},null,{"$f":"Tariff!F11","v":13.243587500000004},null,{"$f":"Tariff!G11","v":13.906750000000002},null,{"$f":"Tariff!G11","v":13.906750000000002},null,{"$f":"Tariff!H11","v":14.880937500000002},null,{"$f":"Tariff!I11","v":18.615025000000003},null,{"$f":"Tariff!J11","v":19.548100000000005},null,{"$f":"Tariff!K11","v":22.484962499999995},null,{"$f":"+Tariff!L11","v":25.411100000000005},null,{"$f":"+Tariff!M11","v":0}]
["5.0 kg",{"$f":"Tariff!E12","v":12.694825000000002},null,{"$f":"Tariff!F12","v":14.557400000000001},null,{"$f":"Tariff!G12","v":15.286699999999996},null,{"$f":"Tariff!G12","v":15.286699999999996},null,{"$f":"Tariff!H12","v":16.357412500000002},null,{"$f":"Tariff!I12","v":20.463300000000004},null,{"$f":"Tariff!J12","v":21.489324999999994},null,{"$f":"Tariff!K12","v":24.717549999999989},null,{"$f":"+Tariff!L12","v":27.93504999999999},null,{"$f":"+Tariff!M12","v":0}]
["5.5 kg",{"$f":"Tariff!E13","v":13.856700000000004},null,{"$f":"Tariff!F13","v":15.871212499999999},null,{"$f":"Tariff!G13","v":16.666649999999997},null,{"$f":"Tariff!G13","v":16.666649999999997},null,{"$f":"Tariff!H13","v":17.833887500000003},null,{"$f":"Tariff!I13","v":22.311575000000005},null,{"$f":"Tariff!J13","v":23.430550000000011},null,{"$f":"Tariff!K13","v":26.950137499999997},null,{"$f":"+Tariff!L13","v":30.459000000000003},null,{"$f":"+Tariff!M13","v":0}]
["6.0 kg",{"$f":"Tariff!E14","v":15.018574999999998},null,{"$f":"Tariff!F14","v":17.185024999999996},null,{"$f":"Tariff!G14","v":18.046599999999998},null,{"$f":"Tariff!G14","v":18.046599999999998},null,{"$f":"Tariff!H14","v":19.310362499999997},null,{"$f":"Tariff!I14","v":24.159850000000006},null,{"$f":"Tariff!J14","v":25.371775},null,{"$f":"Tariff!K14","v":29.182725000000005},null,{"$f":"+Tariff!L14","v":32.982950000000002},null,{"$f":"+Tariff!M14","v":0}]
["6.5 kg",{"$f":"Tariff!E15","v":16.18045},null,{"$f":"Tariff!F15","v":18.4988375},null,{"$f":"Tariff!G15","v":19.426550000000006},null,{"$f":"Tariff!G15","v":19.426550000000006},null,{"$f":"Tariff!H15","v":20.786837500000004},null,{"$f":"Tariff!I15","v":26.008125000000007},null,{"$f":"Tariff!J15","v":27.313000000000002},null,{"$f":"Tariff!K15","v":31.415312499999999},null,{"$f":"+Tariff!L15","v":35.506900000000002},null,{"$f":"+Tariff!M15","v":0}]
["7.0 kg",{"$f":"Tariff!E16","v":17.342325000000002},null,{"$f":"Tariff!F16","v":19.812649999999998},null,{"$f":"Tariff!G16","v":20.8065},null,{"$f":"Tariff!G16","v":20.8065},null,{"$f":"Tariff!H16","v":22.263312499999998},null,{"$f":"Tariff!I16","v":27.856399999999994},null,{"$f":"Tariff!J16","v":29.254225000000005},null,{"$f":"Tariff!K16","v":33.647900000000007},null,{"$f":"+Tariff!L16","v":38.030850000000001},null,{"$f":"+Tariff!M16","v":0}]
["7.5 kg",{"$f":"Tariff!E17","v":18.504199999999997},null,{"$f":"Tariff!F17","v":21.126462500000002},null,{"$f":"Tariff!G17","v":22.186450000000008},null,{"$f":"Tariff!G17","v":22.186450000000008},null,{"$f":"Tariff!H17","v":23.739787500000006},null,{"$f":"Tariff!I17","v":29.704674999999995},null,{"$f":"Tariff!J17","v":31.195449999999994},null,{"$f":"Tariff!K17","v":35.880487500000001},null,{"$f":"+Tariff!L17","v":40.5548},null,{"$f":"+Tariff!M17","v":0}]
["8.0 kg",{"$f":"Tariff!E18","v":19.666074999999999},null,{"$f":"Tariff!F18","v":22.440275},null,{"$f":"Tariff!G18","v":23.566400000000002},null,{"$f":"Tariff!G18","v":23.566400000000002},null,{"$f":"Tariff!H18","v":25.216262499999999},null,{"$f":"Tariff!I18","v":31.55295000000001},null,{"$f":"Tariff!J18","v":33.136674999999997},null,{"$f":"Tariff!K18","v":38.113074999999995},null,{"$f":"+Tariff!L18","v":43.078750000000014},null,{"$f":"+Tariff!M18","v":0}]
["8.5 kg",{"$f":"Tariff!E19","v":20.827950000000001},null,{"$f":"Tariff!F19","v":23.754087499999997},null,{"$f":"Tariff!G19","v":24.946349999999995},null,{"$f":"Tariff!G19","v":24.946349999999995},null,{"$f":"Tariff!H19","v":26.692737499999993},null,{"$f":"Tariff!I19","v":33.401225000000011},null,{"$f":"Tariff!J19","v":35.0779},null,{"$f":"Tariff!K19","v":40.345662500000003},null,{"$f":"+Tariff!L19","v":45.602699999999999},null,{"$f":"+Tariff!M19","v":0}]
["9.0 kg",{"$f":"Tariff!E20","v":21.989824999999996},null,{"$f":"Tariff!F20","v":25.067899999999995},null,{"$f":"Tariff!G20","v":26.326300000000003},null,{"$f":"Tariff!G20","v":26.326300000000003},null,{"$f":"Tariff!H20","v":28.1692125},null,{"$f":"Tariff!I20","v":35.249499999999998},null,{"$f":"Tariff!J20","v":37.019125000000003},null,{"$f":"Tariff!K20","v":42.578249999999997},null,{"$f":"+Tariff!L20","v":48.126649999999984},null,{"$f":"+Tariff!M20","v":0}]
["9.5 kg",{"$f":"Tariff!E21","v":23.151700000000005},null,{"$f":"Tariff!F21","v":26.381712499999992},null,{"$f":"Tariff!G21","v":27.706249999999997},null,{"$f":"Tariff!G21","v":27.706249999999997},null,{"$f":"Tariff!H21","v":29.645687500000008},null,{"$f":"Tariff!I21","v":37.097774999999999},null,{"$f":"Tariff!J21","v":38.960350000000005},null,{"$f":"Tariff!K21","v":44.810837499999991},null,{"$f":"+Tariff!L21","v":50.650599999999997},null,{"$f":"+Tariff!M21","v":0}]
["10.0 kg",{"$f":"Tariff!E22","v":24.313575},null,{"$f":"Tariff!F22","v":27.695525000000004},null,{"$f":"Tariff!G22","v":29.086199999999991},null,{"$f":"Tariff!G22","v":29.086199999999991},null,{"$f":"Tariff!H22","v":31.122162500000002},null,{"$f":"Tariff!I22","v":38.94605},null,{"$f":"Tariff!J22","v":40.901575000000008},null,{"$f":"Tariff!K22","v":47.043425000000013},null,{"$f":"+Tariff!L22","v":53.174550000000011},null,{"$f":"+Tariff!M22","v":0}]
["+10KG Add KG",{"$f":"Tariff!E23","v":1.9662500000000005},null,{"$f":"Tariff!F23","v":2.2236500000000001},null,{"$f":"Tariff!G23","v":2.3344750000000003},null,{"$f":"Tariff!G23","v":2.3344750000000003},null,{"$f":"Tariff!H23","v":2.4989249999999998},null,{"$f":"Tariff!I23","v":3.1281250000000007},null,{"$f":"Tariff!J23","v":3.2818500000000004},null,{"$f":"Tariff!K23","v":3.7787749999999996},null,{"$f":"+Tariff!L23","v":4.2685499999999994},null,{"$f":"+Tariff!M23","v":0}]
["Remarks/ Additional Information "]
[]
[]
[]
[]
[]
[]
["Requested By"]
["Sales Person",null,"Shaji Joby",null,null,null,null,null,"Date",null,null,null,null,"Signature"]
[]
["Approvals"]
["Sales Manager",null,"Shaji Joby",null,null,null,"Date ",null," ",null,null,"Signature"]
["BDM",null,"Christopher Mendes",null,null,null,"Date ",null,null,null,null,"Signature"]
["Finance Manager",null,"Sanjay Bandale",null,null,null,"Date ",null," ",null,null,"Signature"]
["CGM, KWT",null,"Shaji George",null,null,null,"Date ",null," ",null,null,"Signature"]
["Commercial Manager ",null,"Shibu George ",null,null,null,"Date ",null,null,null,null,"Signature"]
["Director, IBU",null,"Mohannad M.S. Khayyat",null,null,null,"Date ",null," ",null,null,"Signature",null,null," "]
["Sales Coordinator:",null,"  "]

{"sheet":"Tariff","index":1,"n_rows":54,"n_cols":91,"rows_kept":54,"cut":false,"hidden":false,"merged":[[26,47,26,57],[26,58,26,68],[27,3,27,13],[53,3,53,13],[28,69,28,79],[26,3,26,13],[26,69,26,79],[26,14,26,24],[26,25,26,35],[26,36,26,46],[0,80,0,90],[0,3,0,13],[0,14,0,24],[0,25,0,35],[0,36,0,46],[0,47,0,57],[0,58,0,68],[0,69,0,79]]}
[null,null,null,"TRANSFER RATES TO MAIN SHEET",null,null,null,null,null,null,null,null,null,null,"CASH RATES",null,null,null,null,null,null,null,null,null,null,"TELESALES TARIFF ",null,null,null,null,null,null,null,null,null,null,"FIELD SALES TARIFF ",null,null,null,null,null,null,null,null,null,null,"SALES MANAGER TARIFF ",null,null,null,null,null,null,null,null,null,null,"GENERAL MANAGER TARIFF -",null,null,null,null,null,null,null,null,null,null,"CUSTOMIZED TARIFF",null,null,null,null,null,null,null,null,null,null,"PERSONALIZED TARIFF %"]
[null,null,null,null,"Z1","Z2","Z3","Z4","Z5","Z6","Z7","Z8","Z9","Z10"," ","Z1","Z2","Z3","Z4","Z5","Z6","Z7","Z8","Z9","Z10",null,"Z1","Z2","Z3","Z4","Z5","Z6","Z7","Z8","Z9","Z10",null,"Z1","Z2","Z3","Z4","Z5","Z6","Z7","Z8","Z9","Z10",null,"Z1","Z2","Z3","Z4","Z5","Z6","Z7","Z8","Z9","Z10",null,"Z1","Z2","Z3","Z4","Z5","Z6","Z7","Z8","Z9","Z10",null,"Z1","Z2","Z3","Z4","Z5","Z6","Z7","Z8","Z9","Z10",null,"Z1","Z2","Z3","Z4","Z5","Z6","Z7","Z8","Z9","Z10"]
[null,null,null,0.5,{"$f":"+E30","v":5.0979500000000009},{"$f":"+F30","v":5.9648874999999997},6.2634000000000007,6.7013375000000011,8.376224999999998,8.7944999999999993,10.1154625,11.432850000000002,0,0,0.5,20.3918,23.859550000000002,25.053600000000003,26.805349999999997,33.504899999999999,35.177999999999997,40.461849999999998,45.731400000000001,0,0,0.5,13.254670000000001,15.508707500000002,16.284840000000003,17.423477499999997,21.778185000000001,22.865699999999997,26.300202499999997,29.72541,0,0,0.5,7.1371299999999991,8.3508425000000006,8.7687600000000003,9.3818725000000001,11.726714999999999,12.312299999999997,14.161647499999997,16.005990000000001,0,0,0.5,6.1175400000000018,7.157865000000001,7.5160800000000023,8.0416050000000006,10.051470000000002,10.5534,12.138555,13.71942,13.8,0,0.5,5.0979500000000009,5.9648874999999997,6.2634000000000007,6.7013375000000011,8.376224999999998,8.7944999999999993,10.1154625,11.432850000000002,0,0,0.5,{"$f":"P3-(P3*CD3)","v":20.3918},{"$f":"Q3-(Q3*CE3)","v":23.859550000000002},25.053600000000003,26.805349999999997,33.504899999999999,35.177999999999997,40.461849999999998,45.731400000000001,0,0,0.5,0,0,0,0,0,0,0,0,0,0]
[null,null,null,1,{"$f":"+E31","v":5.5448249999999994},6.4707499999999989,6.7942874999999994,7.2697624999999988,9.08765,9.5416749999999979,10.975250000000003,12.403462500000003,0,0,1,22.179299999999998,25.882999999999999,27.177150000000001,29.079050000000002,36.3506,38.166699999999999,43.900999999999996,49.613849999999999,0,0,1,14.416544999999999,16.82395,17.665147500000003,18.901382500000004,23.627890000000001,24.808354999999999,28.535649999999997,32.249002500000003,0,0,1,7.7627549999999985,9.0590499999999992,9.5120025000000012,10.177667500000002,12.722709999999999,13.358345,15.365349999999999,17.364847499999996,0,0,1,6.6537900000000008,7.7649000000000008,8.1531450000000021,8.7237150000000021,10.905180000000001,11.450010000000002,13.170300000000001,14.884155,20.399999999999999,0,1,5.5448249999999994,6.4707499999999989,6.7942874999999994,7.2697624999999988,9.08765,9.5416749999999979,10.975250000000003,12.403462500000003,0,0,1,{"$f":"P4-(P4*CD4)","v":22.179299999999998},25.882999999999999,27.177150000000001,29.079050000000002,36.3506,38.166699999999999,43.900999999999996,49.613849999999999,0,0,1,0,0,0,0,0,0,0,0,0,0]
[null,null,null,1.5,{"$f":"+E32","v":5.9917000000000016},6.9766125000000017,7.325174999999998,7.8381875000000001,9.799075000000002,10.28885,11.835037499999999,13.374075000000005,0,0,1.5,23.966799999999999,27.90645,29.300699999999996,31.35275,39.196300000000001,41.1554,47.340150000000008,53.496300000000005,0,0,1.5,15.578419999999999,18.1391925,19.045454999999997,20.3792875,25.477595000000001,26.751010000000001,30.771097500000007,34.77259500000001,0,0,1.5,8.3883799999999997,9.7672574999999995,10.255244999999999,10.9734625,13.718705,14.404389999999999,16.569052500000002,18.723705000000002,0,0,1.5,7.1900399999999998,8.3719350000000006,8.7902099999999983,9.4058250000000001,11.758890000000001,12.346620000000001,14.202045000000005,16.048890000000007,25.8,0,1.5,5.9917000000000016,6.9766125000000017,7.325174999999998,7.8381875000000001,9.799075000000002,10.28885,11.835037499999999,13.374075000000005,0,0,1.5,23.966799999999999,27.90645,29.300699999999996,31.35275,39.196300000000001,41.1554,47.340150000000008,53.496300000000005,0,0,1.5,0,0,0,0,0,0,0,0,0,0]
[null,null,null,2,{"$f":"+E33","v":6.4385750000000002},7.4824750000000009,7.8560625000000002,8.4066125000000014,10.5105,11.036025000000002,12.694825000000002,14.344687499999999,0,0,2,25.754299999999997,29.929899999999996,31.424249999999994,33.626449999999998,42.042000000000002,44.144100000000002,50.779300000000006,57.378750000000004,0,0,2,16.740294999999996,19.454434999999997,20.425762499999998,21.8571925,27.327300000000001,28.693665000000003,33.006545000000003,37.296187500000002,0,0,2,9.0140049999999974,10.475465,10.998487499999996,11.769257499999998,14.714700000000001,15.450434999999999,17.772755000000004,20.082562500000002,0,0,2,7.7262899999999988,8.9789700000000003,9.4272749999999981,10.087935000000002,12.612600000000004,13.243230000000004,15.233790000000006,17.213625,31.2,0,2,6.4385750000000002,7.4824750000000009,7.8560625000000002,8.4066125000000014,10.5105,11.036025000000002,12.694825000000002,14.344687499999999,0,0,2,25.754299999999997,29.929899999999996,31.424249999999994,33.626449999999998,42.042000000000002,44.144100000000002,50.779300000000006,57.378750000000004,0,0,2,0,0,0,0,0,0,0,0,0,0]
[null,null,null,2.5,{"$f":"+E34","v":6.8854499999999987},7.9883375000000001,8.3869499999999988,8.9750374999999991,11.221924999999999,11.783200000000001,13.554612500000005,15.315300000000001,0,0,2.5,27.541799999999995,31.953350000000004,33.547800000000002,35.900149999999996,44.887699999999995,47.132799999999996,54.218450000000004,61.261199999999995,0,0,2.5,17.902169999999998,20.769677500000004,21.806070000000002,23.335097499999996,29.177004999999998,30.636319999999998,35.241992500000009,39.819779999999994,0,0,2.5,9.6396299999999968,11.1836725,11.74173,12.565052499999997,15.710694999999998,16.496479999999998,18.976457500000002,21.441419999999994,0,0,2.5,8.2625400000000013,9.5860050000000037,10.064340000000001,10.770045,13.46631,14.13984,16.265535000000007,18.378360000000001,15,0,2.5,6.8854499999999987,7.9883375000000001,8.3869499999999988,8.9750374999999991,11.221924999999999,11.783200000000001,13.554612500000005,15.315300000000001,0,0,2.5,27.541799999999995,31.953350000000004,33.547800000000002,35.900149999999996,44.887699999999995,47.132799999999996,54.218450000000004,61.261199999999995,0,0,2.5,0,0,0,0,0,0,0,0,0,0]
[null,null,null,3,{"$f":"+E35","v":8.0473250000000007},9.3021499999999975,9.7668999999999997,10.4515125,13.0702,13.724424999999997,15.787199999999999,17.83925,0,0,3,32.189299999999996,37.20859999999999,39.067599999999999,41.806049999999999,52.280799999999999,54.8977,63.148800000000008,71.356999999999999,0,0,3,20.923044999999998,24.185589999999994,25.393940000000001,27.173932499999999,33.982520000000001,35.683504999999997,41.046720000000008,46.38205,0,0,3,11.266254999999997,13.023009999999996,13.673659999999998,14.6321175,18.298279999999998,19.214194999999997,22.102080000000001,24.97495,0,0,3,9.6567900000000009,11.162579999999998,11.720280000000002,12.541815000000003,15.684240000000003,16.46931,18.944640000000007,21.4071,21.6,0,3,8.0473250000000007,9.3021499999999975,9.7668999999999997,10.4515125,13.0702,13.724424999999997,15.787199999999999,17.83925,0,0,3,32.189299999999996,37.20859999999999,39.067599999999999,41.806049999999999,52.280799999999999,54.8977,63.148800000000008,71.356999999999999,0,0,3,0,0,0,0,0,0,0,0,0,0]
[null,null,null,3.5,{"$f":"+E36","v":9.2092000000000027},10.615962499999998,11.146850000000001,11.9279875,14.918475000000001,15.665649999999999,18.0197875,20.363199999999999,0,0,3.5,36.836800000000004,42.463849999999994,44.587399999999995,47.711950000000002,59.673899999999996,62.662599999999998,72.079149999999998,81.452799999999996,0,0,3.5,23.943920000000006,27.601502499999995,28.981809999999996,31.012767500000002,38.788034999999994,40.730689999999996,46.851447499999999,52.944320000000005,0,0,3.5,12.892880000000002,14.862347499999998,15.605589999999996,16.699182499999999,20.885864999999995,21.931909999999995,25.227702499999999,28.508479999999999,0,0,3.5,11.051040000000004,12.739155,13.37622,14.313585000000003,17.902169999999998,18.798780000000001,21.623745,24.435840000000006,28.8,0,3.5,9.2092000000000027,10.615962499999998,11.146850000000001,11.9279875,14.918475000000001,15.665649999999999,18.0197875,20.363199999999999,0,0,3.5,36.836800000000004,42.463849999999994,44.587399999999995,47.711950000000002,59.673899999999996,62.662599999999998,72.079149999999998,81.452799999999996,0,0,3.5,0,0,0,0,0,0,0,0,0,0]
[null,null,null,4,{"$f":"+E37","v":10.371074999999998},11.929774999999999,12.526800000000001,13.404462500000001,16.766750000000002,17.606875000000002,20.252375000000001,22.887150000000005,0,0,4,41.48429999999999,47.719100000000005,50.107200000000006,53.617849999999997,67.067000000000007,70.427499999999995,81.009500000000003,91.548600000000008,0,0,4,26.964794999999995,31.017415000000003,32.569680000000005,34.851602499999998,43.593550000000008,45.777874999999995,52.656175000000005,59.50659000000001,0,0,4,14.519504999999995,16.701685000000001,17.537520000000001,18.766247499999999,23.47345,24.649624999999993,28.353324999999998,32.042009999999998,0,0,4,12.44529,14.315730000000002,15.032160000000005,16.085355,20.120100000000008,21.128250000000001,24.302850000000007,27.464580000000012,35.4,0,4,10.371074999999998,11.929774999999999,12.526800000000001,13.404462500000001,16.766750000000002,17.606875000000002,20.252375000000001,22.887150000000005,0,0,4,41.48429999999999,47.719100000000005,50.107200000000006,53.617849999999997,67.067000000000007,70.427499999999995,81.009500000000003,91.548600000000008,0,0,4,0,0,0,0,0,0,0,0,0,0]
[null,null,null,4.5,{"$f":"+E38","v":11.53295},13.243587500000004,13.906750000000002,14.880937500000002,18.615025000000003,19.548100000000005,22.484962499999995,25.411100000000005,0,0,4.5,46.131799999999998,52.974350000000008,55.627000000000002,59.523749999999993,74.460099999999997,78.192400000000006,89.939849999999993,101.64439999999999,0,0,4.5,29.985669999999999,34.433327500000004,36.157550000000001,38.690437500000002,48.399065,50.825060000000008,58.460902499999996,66.068860000000001,0,0,4.5,16.146129999999999,18.541022500000004,19.469450000000002,20.833312499999998,26.061034999999997,27.367339999999999,31.478947499999997,35.57553999999999,0,0,4.5,13.83954,15.892305000000007,16.688100000000006,17.857125000000003,22.338030000000003,23.457720000000002,26.981954999999999,30.493319999999997,42,0,4.5,11.53295,13.243587500000004,13.906750000000002,14.880937500000002,18.615025000000003,19.548100000000005,22.484962499999995,25.411100000000005,0,0,4.5,46.131799999999998,52.974350000000008,55.627000000000002,59.523749999999993,74.460099999999997,78.192400000000006,89.939849999999993,101.64439999999999,0,0,4.5,0,0,0,0,0,0,0,0,0,0]
[null,null,null,5,{"$f":"+E39","v":12.694825000000002},14.557400000000001,15.286699999999996,16.357412500000002,20.463300000000004,21.489324999999994,24.717549999999989,27.93504999999999,0,0,5,50.779300000000006,58.229600000000005,61.146799999999999,65.429650000000009,81.853200000000001,85.957299999999989,98.870199999999983,111.74019999999999,0,0,5,33.006545000000003,37.849240000000009,39.745419999999996,42.529272500000005,53.204580000000007,55.872244999999992,64.265629999999987,72.631129999999985,0,0,5,17.772755000000004,20.380360000000003,21.401379999999996,22.900377500000005,28.648620000000001,30.085054999999997,34.604569999999995,39.109069999999988,0,0,5,15.233790000000006,17.468880000000006,18.34404,19.628895000000007,24.555960000000006,25.787190000000002,29.661060000000006,33.522059999999996,49.2,0,5,12.694825000000002,14.557400000000001,15.286699999999996,16.357412500000002,20.463300000000004,21.489324999999994,24.717549999999989,27.93504999999999,0,0,5,50.779300000000006,58.229600000000005,61.146799999999999,65.429650000000009,81.853200000000001,85.957299999999989,98.870199999999983,111.74019999999999,0,0,5,0,0,0,0,0,0,0,0,0,0]
[null,null,null,5.5,{"$f":"+E40","v":13.856700000000004},15.871212499999999,16.666649999999997,17.833887500000003,22.311575000000005,23.430550000000011,26.950137499999997,30.459000000000003,0,0,5.5,55.426800000000007,63.484850000000002,66.666599999999988,71.335549999999998,89.246299999999991,93.722200000000015,107.80055,121.836,0,0,5.5,36.027420000000006,41.265152499999999,43.333289999999991,46.368107500000001,58.010094999999993,60.919430000000013,70.0703575,79.193399999999997,0,0,5.5,19.399380000000001,22.219697500000002,23.333309999999997,24.967442499999997,31.236204999999998,32.802770000000002,37.730192500000001,42.642600000000002,0,0,5.5,16.628040000000006,19.045455000000004,19.999980000000001,21.400665000000004,26.773890000000002,28.11666000000001,32.340164999999999,36.55080000000001,55.8,0,5.5,13.856700000000004,15.871212499999999,16.666649999999997,17.833887500000003,22.311575000000005,23.430550000000011,26.950137499999997,30.459000000000003,0,0,5.5,55.426800000000007,63.484850000000002,66.666599999999988,71.335549999999998,89.246299999999991,93.722200000000015,107.80055,121.836,0,0,5.5,0,0,0,0,0,0,0,0,0,0]
[null,null,null,6,{"$f":"+E41","v":15.018574999999998},17.185024999999996,18.046599999999998,19.310362499999997,24.159850000000006,25.371775,29.182725000000005,32.982950000000002,0,0,6,60.074299999999987,68.740099999999998,72.186400000000006,77.24145,96.639399999999995,101.4871,116.73090000000001,131.93180000000001,0,0,6,39.048294999999996,44.681065000000004,46.92116,50.206942499999997,62.81561,65.966615000000004,75.875085000000013,85.755670000000009,0,0,6,21.026004999999991,24.059034999999994,25.265239999999999,27.034507499999997,33.823789999999995,35.520484999999994,40.855814999999993,46.176130000000001,0,0,6,18.022289999999998,20.622030000000002,21.655920000000002,23.172435,28.991820000000004,30.446130000000011,35.019270000000006,39.579540000000009,62.4,0,6,15.018574999999998,17.185024999999996,18.046599999999998,19.310362499999997,24.159850000000006,25.371775,29.182725000000005,32.982950000000002,0,0,6,60.074299999999987,68.740099999999998,72.186400000000006,77.24145,96.639399999999995,101.4871,116.73090000000001,131.93180000000001,0,0,6,0,0,0,0,0,0,0,0,0,0]
[null,null,null,6.5,{"$f":"+E42","v":16.18045},18.4988375,19.426550000000006,20.786837500000004,26.008125000000007,27.313000000000002,31.415312499999999,35.506900000000002,0,0,6.5,64.721800000000002,73.995350000000002,77.70620000000001,83.147350000000003,104.03250000000003,109.25200000000001,125.66125,142.02760000000001,0,0,6.5,42.06917,48.096977500000001,50.50903000000001,54.0457775,67.621125000000021,71.013800000000003,81.679812499999997,92.317940000000007,0,0,6.5,22.652630000000002,25.898372500000001,27.19717,29.101572499999996,36.411375000000007,38.238200000000006,43.981437499999998,49.70966,0,0,6.5,19.416540000000005,22.198605000000001,23.311860000000003,24.944205000000004,31.209750000000014,32.775600000000011,37.698374999999999,42.608280000000008,69.599999999999994,0,6.5,16.18045,18.4988375,19.426550000000006,20.786837500000004,26.008125000000007,27.313000000000002,31.415312499999999,35.506900000000002,0,0,6.5,64.721800000000002,73.995350000000002,77.70620000000001,83.147350000000003,104.03250000000003,109.25200000000001,125.66125,142.02760000000001,0,0,6.5,0,0,0,0,0,0,0,0,0,0]
[null,null,null,7,{"$f":"+E43","v":17.342325000000002},19.812649999999998,20.8065,22.263312499999998,27.856399999999994,29.254225000000005,33.647900000000007,38.030850000000001,0,0,7,69.369299999999996,79.250599999999991,83.225999999999999,89.053250000000006,111.42559999999999,117.01690000000001,134.59160000000003,152.1234,0,0,7,45.090045000000003,51.512889999999999,54.096900000000005,57.884612500000003,72.426639999999992,76.060985000000016,87.484540000000024,98.880210000000005,0,0,7,24.279254999999999,27.737709999999993,29.129100000000001,31.168637500000003,38.998959999999997,40.955915000000005,47.107060000000004,53.243189999999998,0,0,7,20.810790000000004,23.775179999999999,24.967800000000004,26.715975000000007,33.427679999999995,35.105070000000012,40.37748000000002,45.637020000000007,76.2,0,7,17.342325000000002,19.812649999999998,20.8065,22.263312499999998,27.856399999999994,29.254225000000005,33.647900000000007,38.030850000000001,0,0,7,69.369299999999996,79.250599999999991,83.225999999999999,89.053250000000006,111.42559999999999,117.01690000000001,134.59160000000003,152.1234,0,0,7,0,0,0,0,0,0,0,0,0,0]
[null,null,null,7.5,{"$f":"+E44","v":18.504199999999997},21.126462500000002,22.186450000000008,23.739787500000006,29.704674999999995,31.195449999999994,35.880487500000001,40.5548,0,0,7.5,74.016799999999989,84.505850000000009,88.745800000000003,94.959150000000008,118.81869999999998,124.7818,143.52195,162.21919999999997,0,0,7.5,48.110919999999993,54.928802500000003,57.68477,61.723447500000006,77.232154999999992,81.108170000000001,93.289267500000008,105.44247999999999,0,0,7.5,25.905879999999996,29.577047499999999,31.061030000000002,33.235702500000002,41.586544999999987,43.673630000000003,50.232682499999996,56.776719999999983,0,0,7.5,22.205039999999997,25.351755000000004,26.623740000000005,28.487745000000004,35.645610000000005,37.434540000000013,43.056585000000013,48.665760000000006,82.8,0,7.5,18.504199999999997,21.126462500000002,22.186450000000008,23.739787500000006,29.704674999999995,31.195449999999994,35.880487500000001,40.5548,0,0,7.5,74.016799999999989,84.505850000000009,88.745800000000003,94.959150000000008,118.81869999999998,124.7818,143.52195,162.21919999999997,0,0,7.5,0,0,0,0,0,0,0,0,0,0]
[null,null,null,8,{"$f":"+E45","v":19.666074999999999},22.440275,23.566400000000002,25.216262499999999,31.55295000000001,33.136674999999997,38.113074999999995,43.078750000000014,0,0,8,78.664299999999997,89.761099999999999,94.265599999999992,100.86505,126.21180000000001,132.54669999999999,152.45229999999998,172.315,0,0,8,51.131794999999997,58.344715000000001,61.272639999999996,65.562282500000009,82.03767000000002,86.155354999999986,99.093994999999993,112.00475,0,0,8,27.532505,31.416384999999998,32.992959999999997,35.302767500000002,44.174130000000005,46.391344999999987,53.358304999999987,60.310249999999996,0,0,8,23.599290000000003,26.928330000000003,28.279679999999999,30.259515000000007,37.863540000000015,39.764009999999999,45.735690000000005,51.694500000000005,90,0,8,19.666074999999999,22.440275,23.566400000000002,25.216262499999999,31.55295000000001,33.136674999999997,38.113074999999995,43.078750000000014,0,0,8,78.664299999999997,89.761099999999999,94.265599999999992,100.86505,126.21180000000001,132.54669999999999,152.45229999999998,172.315,0,0,8,0,0,0,0,0,0,0,0,0,0]
[null,null,null,8.5,{"$f":"+E46","v":20.827950000000001},23.754087499999997,24.946349999999995,26.692737499999993,33.401225000000011,35.0779,40.345662500000003,45.602699999999999,0,0,8.5,83.311799999999991,95.016349999999989,99.785399999999996,106.77095,133.60490000000001,140.3116,161.38265000000001,182.41079999999999,0,0,8.5,54.152670000000001,61.760627499999991,64.860510000000005,69.401117499999998,86.843185000000005,91.202539999999999,104.89872250000002,118.56702,0,0,8.5,29.159129999999998,33.255722499999997,34.924889999999991,37.369832500000001,46.761714999999995,49.109059999999999,56.483927500000007,63.843779999999995,0,0,8.5,24.993540000000003,28.504904999999994,29.93562,32.031285000000011,40.08147000000001,42.09348,48.414795000000012,54.723240000000004,96.6,0,8.5,20.827950000000001,23.754087499999997,24.946349999999995,26.692737499999993,33.401225000000011,35.0779,40.345662500000003,45.602699999999999,0,0,8.5,83.311799999999991,{"$f":"Q19-(Q19*CE19)","v":95.016349999999989},{"$f":"R19-(R19*CF19)","v":99.785399999999996},{"$f":"S19-(S19*CG19)","v":106.77095},{"$f":"T19-(T19*CH19)","v":133.60490000000001},{"$f":"U19-(U19*CI19)","v":140.3116},{"$f":"V19-(V19*CJ19)","v":161.38265000000001},{"$f":"W19-(W19*CK19)","v":182.41079999999999},{"$f":"X19-(X19*CL19)","v":0},{"$f":"Y19-(Y19*CM19)","v":0},8.5,0,0,0,0,0,0,0,0,0,0]
[null,null,null,9,{"$f":"+E47","v":21.989824999999996},25.067899999999995,26.326300000000003,28.1692125,35.249499999999998,37.019125000000003,42.578249999999997,48.126649999999984,0,0,9,87.959299999999999,100.27159999999999,105.3052,112.67685000000002,140.99799999999999,148.07650000000001,170.31300000000002,192.50659999999999,0,0,9,57.173545000000004,65.176539999999989,68.44838,73.239952500000015,91.648699999999991,96.249725000000012,110.70345000000002,125.12929,0,0,9,30.785754999999995,35.095059999999989,36.856819999999999,39.436897500000001,49.349299999999999,51.826774999999998,59.609549999999999,67.377309999999994,0,0,9,26.387790000000003,30.081479999999999,31.591560000000001,33.803055000000015,42.299400000000006,44.422950000000014,51.093900000000019,57.751980000000003,103.2,0,9,21.989824999999996,25.067899999999995,26.326300000000003,28.1692125,35.249499999999998,37.019125000000003,42.578249999999997,48.126649999999984,0,0,9,87.959299999999999,100.27159999999999,105.3052,112.67685000000002,140.99799999999999,148.07650000000001,170.31300000000002,192.50659999999999,0,0,9,0,0,0,0,0,0,0,0,0,0]
[null,null,null,9.5,{"$f":"+E48","v":23.151700000000005},26.381712499999992,27.706249999999997,29.645687500000008,37.097774999999999,38.960350000000005,44.810837499999991,50.650599999999997,0,0,9.5,92.606799999999993,105.52685,110.825,118.58275,148.39109999999999,155.84140000000002,179.24334999999996,202.60239999999999,0,0,9.5,60.194419999999994,68.592452500000007,72.036249999999995,77.078787500000004,96.454215000000005,101.29691000000003,116.50817749999999,131.69155999999998,0,0,9.5,32.412379999999999,36.934397500000003,38.788749999999993,41.5039625,51.93688499999999,54.54449000000001,62.73517249999999,70.910839999999979,0,0,9.5,27.782039999999995,31.658055000000004,33.247500000000002,35.574825000000004,44.517330000000001,46.752420000000015,53.773004999999998,60.780720000000002,110.4,0,9.5,23.151700000000005,26.381712499999992,27.706249999999997,29.645687500000008,37.097774999999999,38.960350000000005,44.810837499999991,50.650599999999997,0,0,9.5,92.606799999999993,105.52685,110.825,118.58275,148.39109999999999,155.84140000000002,179.24334999999996,202.60239999999999,0,0,9.5,0,0,0,0,0,0,0,0,0,0]
[null,null,null,10,{"$f":"+E49","v":24.313575},27.695525000000004,29.086199999999991,31.122162500000002,38.94605,40.901575000000008,47.043425000000013,53.174550000000011,0,0,10,97.254300000000001,110.78209999999999,116.34479999999998,124.48865000000001,155.7842,163.6063,188.17370000000003,212.69820000000001,0,0,10,63.215295000000005,72.008364999999998,75.624119999999991,80.917622500000007,101.25973,106.34409500000001,122.31290500000001,138.25382999999999,0,0,10,34.039004999999996,38.773734999999988,40.720679999999987,43.5710275,54.524469999999994,57.262204999999994,65.86079500000001,74.444369999999992,0,0,10,29.176290000000009,33.234629999999996,34.903440000000003,37.346595000000008,46.735260000000011,49.081890000000016,56.452110000000005,63.809460000000001,117,0,10,24.313575,27.695525000000004,29.086199999999991,31.122162500000002,38.94605,40.901575000000008,47.043425000000013,53.174550000000011,0,0,10,97.254300000000001,110.78209999999999,116.34479999999998,124.48865000000001,155.7842,163.6063,188.17370000000003,212.69820000000001,0,0,10,0,0,0,0,0,0,0,0,0,0]
[null,null,null,"10.1KG-30KG  Add 1KG",{"$f":"+E50","v":1.9662500000000005},2.2236500000000001,2.3344750000000003,2.4989249999999998,3.1281250000000007,3.2818500000000004,3.7787749999999996,4.2685499999999994,0,0,"10.1KG-30KG  Add 1KG",7.8650000000000011,8.8946000000000005,9.3379000000000012,9.9956999999999994,12.512500000000001,13.127400000000002,15.115099999999998,17.074199999999998,0,0,"10.1KG-30KG  Add 1KG",5.1122500000000013,5.7814900000000007,6.0696350000000008,6.4972049999999992,8.1331249999999997,8.5328100000000013,9.8248149999999992,11.098229999999999,0,0,"10.1KG-30KG  Add 1KG",2.7527499999999998,3.1131099999999998,3.2682650000000004,3.4984949999999992,4.3793749999999996,4.5945900000000002,5.290284999999999,5.9759699999999984,0,0,"10.1KG-30KG  Add 1KG",2.3595000000000006,2.6683800000000009,2.8013700000000004,2.99871,3.7537500000000001,3.9382200000000012,4.5345300000000002,5.1222600000000007,123.6,0,"10.1KG-30KG  Add 1KG",1.9662500000000005,2.2236500000000001,2.3344750000000003,2.4989249999999998,3.1281250000000007,3.2818500000000004,3.7787749999999996,4.2685499999999994,0,0,"10.1KG-30KG  Add 1KG",7.8650000000000011,8.8946000000000005,9.3379000000000012,9.9956999999999994,12.512500000000001,13.127400000000002,15.115099999999998,17.074199999999998,0,0,"10.1KG-30KG  Add 1KG",0,0,0,0,0,0,0,0,0,0]
[null,null,null,"30.1KG-70KG  Add 1KG",{"$f":"+E51","v":0},0,0,0,0,0,0,0,0,0,"30.1KG-70KG  Add 1KG",7.5432499999999996,8.5299499999999995,8.9589499999999997,9.5881499999999988,11.9834,12.584,14.4716,16.359200000000001,0,0,"30.1KG-70KG  Add 1KG",4.9031124999999998,5.5444674999999997,5.8233174999999999,6.2322974999999996,7.7892099999999997,8.1796000000000006,9.4065399999999997,10.633480000000002,0,0,"30.1KG-70KG  Add 1KG",2.6401374999999998,2.9854824999999998,3.1356324999999998,3.3558524999999992,4.1941899999999999,4.404399999999999,5.065059999999999,5.7257200000000008,0,0,"30.1KG-70KG  Add 1KG",2.262975,2.5589849999999998,2.6876850000000001,2.8764450000000004,3.5950199999999999,3.7751999999999999,4.3414800000000007,4.9077600000000015,130.80000000000001,0,"30.1KG-70KG  Add 1KG",1.8858125000000001,2.1324874999999999,2.2397375000000004,2.3970374999999997,2.9958500000000008,3.1460000000000008,3.6179000000000006,4.0898000000000003,0,0,"30.1KG-70KG  Add 1KG",7.5432499999999996,8.5299499999999995,8.9589499999999997,9.5881499999999988,11.9834,12.584,14.4716,16.359200000000001,0,0,"30.1KG-70KG  Add 1KG",0,0,0,0,0,0,0,0,0,0]
[null,null,null,"Multiplier Rate per kilo",{"$f":"+E52","v":0},0,0,0,0,0,0,0,0,0,"Multiplier Rate per kilo",7.9436499999999999,8.9732499999999984,9.4237000000000002,10.0815,12.5983,13.227500000000001,15.208049999999997,17.195749999999997,0,0,"Multiplier Rate per kilo",5.1633724999999995,5.8326124999999998,6.1254050000000007,6.552975,8.1888950000000005,8.5978750000000019,9.8852324999999972,11.177237499999999,0,0,"Multiplier Rate per kilo",2.7802774999999995,3.1406374999999995,3.2982949999999995,3.5285250000000001,4.4094049999999996,4.6296250000000008,5.3228174999999993,6.0185124999999982,0,0,"Multiplier Rate per kilo",2.383095,2.6919750000000002,2.8271100000000002,3.0244500000000007,3.7794900000000009,3.9682500000000012,4.5624149999999997,5.1587250000000004,137.4,0,"Multiplier Rate per kilo",1.9859124999999995,2.2433125,2.355925,2.5203749999999996,3.1495750000000005,3.3068749999999998,3.8020125,4.2989374999999992,0,0,"Multiplier Rate per kilo",7.9436499999999999,8.9732499999999984,9.4237000000000002,10.0815,12.5983,13.227500000000001,15.208049999999997,17.195749999999997,0,0,"Multiplier Rate per kilo",0,0,0,0,0,0,0,0,0,0]
[null,null,null,null,{"$f":"+E53","v":"KWT/OB/GMT"},null,null,null,null,null,null,null,null,null,null,"KWT/OB/CST",null,null,null,null,null,null,null,null,null,null,"KWT/OB/TST",null,null,null,null,null,null,null,null,null,null,"KWT/OB/FST",null,null,null,null,null,null,null,null,null,null,"KWT/OB/SMT",null,null,null,null,null,null,null,null,null,null,"KWT/OB/GMT",null,null,null,null,null,null,null,null,null,null,"KWT/OB/PTA"]
[null,null,null,"TRANSFER RATES TO MAIN SHEET",null,null,null,null,null,null,null,null,null,null,"CASH RATES",null,null,null,null,null,null,null,null,null,null,"TELESALES TARIFF",null,null,null,null,null,null,null,null,null,null,"FIELD SALES TARIFF",null,null,null,null,null,null,null,null,null,null,"SALES MANAGER TARIFF",null,null,null,null,null,null,null,null,null,null,"GENERAL MANAGER TARIFF"]
[null,null,null,"TRANSFER RATES TO MAIN SHEET"]
[null,null,null,null,"Z1","Z2","Z3","Z4","Z5","Z6","Z7","Z8","Z9","Z10"]
[null,null,null,0.5,5.0979500000000009,5.9648874999999997,6.2634000000000007,6.7013375000000011,8.376224999999998,8.7944999999999993,10.1154625,11.432850000000002,0,0]
[null,null,null,1,5.5448249999999994,6.4707499999999989,6.7942874999999994,7.2697624999999988,9.08765,9.5416749999999979,10.975250000000003,12.403462500000003,0,0]
[null,null,null,1.5,5.9917000000000016,6.9766125000000017,7.325174999999998,7.8381875000000001,9.799075000000002,10.28885,11.835037499999999,13.374075000000005,0,0]
[null,null,null,2,6.4385750000000002,7.4824750000000009,7.8560625000000002,8.4066125000000014,10.5105,11.036025000000002,12.694825000000002,14.344687499999999,0,0]
[null,null,null,2.5,6.8854499999999987,7.9883375000000001,8.3869499999999988,8.9750374999999991,11.221924999999999,11.783200000000001,13.554612500000005,15.315300000000001,0,0]
[null,null,null,3,8.0473250000000007,9.3021499999999975,9.7668999999999997,10.4515125,13.0702,13.724424999999997,15.787199999999999,17.83925,0,0]
[null,null,null,3.5,9.2092000000000027,10.615962499999998,11.146850000000001,11.9279875,14.918475000000001,15.665649999999999,18.0197875,20.363199999999999,0,0]
[null,null,null,4,10.371074999999998,11.929774999999999,12.526800000000001,13.404462500000001,16.766750000000002,17.606875000000002,20.252375000000001,22.887150000000005,0,0]
[null,null,null,4.5,11.53295,13.243587500000004,13.906750000000002,14.880937500000002,18.615025000000003,19.548100000000005,22.484962499999995,25.411100000000005,0,0]
[null,null,null,5,12.694825000000002,14.557400000000001,15.286699999999996,16.357412500000002,20.463300000000004,21.489324999999994,24.717549999999989,27.93504999999999,0,0]
[null,null,null,5.5,13.856700000000004,15.871212499999999,16.666649999999997,17.833887500000003,22.311575000000005,23.430550000000011,26.950137499999997,30.459000000000003,0,0]
[null,null,null,6,15.018574999999998,17.185024999999996,18.046599999999998,19.310362499999997,24.159850000000006,25.371775,29.182725000000005,32.982950000000002,0,0]
[null,null,null,6.5,16.18045,18.4988375,19.426550000000006,20.786837500000004,26.008125000000007,27.313000000000002,31.415312499999999,35.506900000000002,0,0]
[null,null,null,7,17.342325000000002,19.812649999999998,20.8065,22.263312499999998,27.856399999999994,29.254225000000005,33.647900000000007,38.030850000000001,0,0]
[null,null,null,7.5,18.504199999999997,21.126462500000002,22.186450000000008,23.739787500000006,29.704674999999995,31.195449999999994,35.880487500000001,40.5548,0,0]
[null,null,null,8,19.666074999999999,22.440275,23.566400000000002,25.216262499999999,31.55295000000001,33.136674999999997,38.113074999999995,43.078750000000014,0,0]
[null,null,null,8.5,20.827950000000001,23.754087499999997,24.946349999999995,26.692737499999993,33.401225000000011,35.0779,40.345662500000003,45.602699999999999,0,0]
[null,null,null,9,21.989824999999996,25.067899999999995,26.326300000000003,28.1692125,35.249499999999998,37.019125000000003,42.578249999999997,48.126649999999984,0,0]
[null,null,null,9.5,23.151700000000005,26.381712499999992,27.706249999999997,29.645687500000008,37.097774999999999,38.960350000000005,44.810837499999991,50.650599999999997,0,0]
[null,null,null,10,24.313575,27.695525000000004,29.086199999999991,31.122162500000002,38.94605,40.901575000000008,47.043425000000013,53.174550000000011,0,0]
[null,null,null,"10.1KG-30KG  Add 1KG",1.9662500000000005,2.2236500000000001,2.3344750000000003,2.4989249999999998,3.1281250000000007,3.2818500000000004,3.7787749999999996,4.2685499999999994,0,0]
[null,null,null,"30.1KG-70KG  Add 1KG",0,0,0,0,0,0,0,0,0,0]
[null,null,null,"Multiplier Rate per kilo",0,0,0,0,0,0,0,0,0,0]
[null,null,null,null,{"$f":"BH26","v":"KWT/OB/GMT"}]
[null,null,null,"GENERAL MANAGER TARIFF"]

{"sheet":"Export & Import ZONE","index":2,"n_rows":62,"n_cols":8,"rows_kept":62,"cut":false,"hidden":false,"merged":[[2,0,2,7]]}
[]
[]
["EXPORT ZONING & IMPORT ZONING"]
["Countries ","Zone","Countries ","Zone","Countries ","Zone","Countries ","Zone"]
["Afghanistan ",2,"Dominican Rep. ",8,"Libya ",8,"San Marino ",8]
["Albania ",4,"Ecuador ",8,"Liechtenstein",4,"Sao Tome And Principe (ST)",8]
["Algeria ",8,"Egypt ",2,"Lithuania ",7,"Saudi Arabia ",1]
["American Samoa ",8,"El Salvador ",8,"Luxembourg ",4,"Senegal ",8]
["Andorra ",8,"Eritrea",8,"Macau SAR China ",8,"Serbia, Rep. Of ",4]
["Angola ",8,"Estonia ",7,"Madagascar ",8,"Seychelles ",8]
["Anguilla ",8,"Eswatini ",8,"Malawi ",8,"Sierra Leone",8]
["Antigua ",8,"Ethiopia ",8,"Malaysia",6,"Singapore",6]
["Argentina ",8,"Falkland Islands ",8,"Maldives ",8,"Slovakia ",4]
["Armenia",7,"Faroe Islands ",8,"Mali ",8,"Slovenia ",4]
["Aruba ",8,"Fiji ",8,"Malta ",4,"Solomon Islands ",8]
["Australia ",6,"Finland  ",4,"Mariana Islands",8,"Somalia",8]
["Austria ",4,"France ",4,"Marshall Islands ",8,"Somaliland, Rep Of ",8]
["Azerbaijan ",7,"French Guyana ",8,"Martinique ",8,"South Africa ",8]
["Bahamas ",8,"Gabon",8,"Mauritania ",8,"South Sudan ",8]
["Bahrain ",1,"Gambia ",8,"Mauritius ",8,"Spain ",4]
["Bangladesh ",3,"Georgia ",7,"Mayotte ",8,"Sri Lanka ",3]
["Barbados ",8,"Germany ",4,"Mexico ",5,"St. Barthelemy ",8]
["Belarus",7,"Ghana",8,"Micronesia ",8,"St. Eustatius ",8]
["Belgium ",4,"Gibraltar ",7,"Moldova, Rep. Of ",7,"St. Kitts ",8]
["Belize ",8,"Greece ",4,"Monaco ",4,"St. Lucia ",8]
["Benin ",8,"Greenland ",8,"Mongolia ",7,"St. Maarten",8]
["Bermuda",8,"Grenada ",8,"Montenegro, Rep Of ",7,"St. Vincent ",8]
["Bhutan ",6,"Guadeloupe ",8,"Montserrat ",8,"Sudan",8]
["Bolivia ",8,"Guam ",8,"Morocco ",8,"Suriname ",8]
["Bonaire ",8,"Guatemala ",8,"Mozambique",8,"Sweden ",4]
["Bosnia & Herzegovina",4,"Guernsey ",4,"Myanmar ",6,"Switzerland ",4]
["Botswana",8,"Guinea Rep. ",8,"Namibia ",8,"Syria ",8]
["Brazil ",8,"Guinea-Bissau ",8,"Nauru, Rep. Of ",8,"Tahiti ",8]
["Brunei ",6,"Guinea-Equatorial ",8,"Nepal ",3,"Taiwan",6]
["Bulgaria",4,"Guyana (British) ",8,"Netherlands, The",4,"Tajikistan ",7]
["Burkina Faso",8,"Haiti ",8,"Nevis ",8,"Tanzania ",8]
["Burundi",8,"Honduras ",8,"New Caledonia ",8,"Thailand ",6]
["Cambodia ",6,"Hong Kong SAR China ",6,"New Zealand",6,"Timor-Leste ",8]
["Cameroon ",8,"Hungary",4,"Nicaragua ",8,"Togo ",8]
["Canada ",5,"Iceland ",8,"Niger ",8,"Tonga ",8]
["Canary Islands, The ",7,"India ",3,"Nigeria ",8,"Trinidad And Tobago ",8]
["Cape Verde ",8,"Indonesia",6,"Niue",8,"Tunisia",8]
["Cayman Islands",8,"Iran ",8,"North Macedonia",4,"Turkey ",4]
["Central African Rep",8,"Iraq ",2,"Norway ",4,"Turkmenistan",7]
["Chad ",8,"Ireland, Rep. Of ",4,"Oman",2,"Turks & Caicos ",8]
["Chile ",8,"Italy",4,"Pakistan ",3,"Tuvalu ",8]
["China",6,"Jamaica",8,"Palau ",8,"USA",5]
["Colombia ",8,"Japan ",6,"Panama ",8,"Uganda ",8]
["Comoros ",8,"Jersey ",4,"Papua New Guinea ",6,"Ukraine",7]
["Congo ",8,"Jordan",2,"Paraguay ",8,"United Arab Emirates ",1]
["Congo, DPR ",8,"Kazakhstan ",7,"Peru ",8,"United Kingdom ",4]
["Cook Islands ",8,"Kenya",8,"Philippines, The ",6,"Uruguay",8]
["Costa Rica ",8,"Kiribati ",8,"Poland ",4,"Uzbekistan ",7]
["Cote D Ivoire ",8,"Korea, Rep. Of ",6,"Portugal ",4,"Vanuatu",8]
["Croatia ",4,"Korea,  D.P.R Of",8,"Puerto Rico ",8,"Vatican City ",4]
["Cuba ",8,"Kosovo ",8,"Qatar ",2,"Venezuela ",8]
["Curacao ",8,"Kyrgyzstan",7,"Reunion, Island Of ",8,"Vietnam",6]
["Cyprus ",4,"Laos ",6,"Romania ",4,"Virgin Islands-British ",8]
["Czech Rep., The ",4,"Latvia ",7,"Russian Federation ",7,"Virgin Islands-US ",8]
["Denmark ",4,"Lebanon ",2,"Rwanda",8,"Yemen, Rep. Of ",8]
["Djibouti ",8,"Lesotho ",8,"Saint Helena",8,"Zambia ",8]
["Dominica ",8,"Liberia ",8,"Samoa ",8,"Zimbabwe",8]