{"text_format":"1","workbook":"xlsx","n_sheets":3,"sheets":["IB RFR","Tariff","Zone"],"not_rendered":{"charts":0,"images":1,"macros":1,"external_links":0,"defined_names":1,"comments":0,"pivot_tables":0},"unopened":[],"bounds":{"document_bytes":16777216,"sheet_cells":100000,"rows_first":2000,"rows_last":500,"rows_between":2000,"halvings":0,"cell_chars":16384,"cell_head_chars":4096},"cells_cut":0,"cells_raw":0,"read":"whole","date_system":"1900"}

{"sheet":"IB RFR","index":0,"n_rows":62,"n_cols":21,"rows_kept":62,"cut":false,"hidden":false,"merged":[[2,11,3,20],[58,14,58,20],[34,19,34,20],[36,7,36,8],[36,9,36,10],[36,11,36,12],[36,13,36,14],[36,15,36,16],[36,17,36,18],[36,19,36,20],[38,19,38,20],[38,7,38,8],[38,9,38,10],[38,11,38,12],[38,13,38,14],[38,15,38,16],[38,17,38,18],[34,15,34,16],[34,17,34,18],[31,15,31,16],[31,17,31,18],[31,19,31,20],[34,7,34,8],[34,9,34,10],[56,14,56,20],[58,11,58,13],[60,11,60,13],[60,14,60,20],[53,10,54,12],[28,7,28,8],[28,9,28,10],[28,11,28,12],[28,13,28,14],[28,15,28,16],[28,17,28,18],[28,19,28,20],[29,7,29,8],[29,9,29,10],[29,11,29,12],[29,13,29,14],[29,15,29,16],[29,17,29,18],[29,19,29,20],[31,7,31,8],[31,9,31,10],[31,11,31,12],[31,13,31,14],[30,7,30,8],[22,0,22,14],[28,1,28,2],[34,11,34,12],[34,13,34,14],[61,0,61,1],[56,8,56,10],[56,6,56,7],[57,6,57,7],[56,0,56,1],[57,2,57,5],[60,6,60,7],[60,0,60,1],[58,0,58,1],[60,8,60,10],[58,6,58,7],[58,2,58,5],[60,2,60,5],[57,8,57,10],[58,8,58,10],[56,2,56,5],[53,0,54,1],[53,2,54,7],[39,1,39,2],[40,1,40,2],[23,0,23,16],[57,0,57,1],[25,1,25,2],[25,5,25,6],[25,13,25,14],[25,15,25,16],[52,0,52,20],[25,17,25,18],[57,14,57,20],[25,19,25,20],[53,13,54,20],[53,8,54,9],[27,0,27,20],[32,0,32,20],[25,7,25,8],[47,0,51,20],[45,0,46,20],[25,11,25,12],[25,9,25,10],[25,3,25,4],[57,11,57,13],[41,1,41,2],[42,1,42,2],[56,11,56,13],[20,5,20,6],[14,9,14,20],[16,11,16,12],[16,13,16,14],[16,15,16,16],[14,0,14,8],[20,7,20,8],[21,5,21,6],[20,9,20,10],[21,9,21,10],[20,1,20,2],[21,1,21,2],[20,15,20,16],[21,15,21,16],[21,19,21,20],[20,19,20,20],[20,3,20,4],[21,3,21,4],[16,9,16,10],[16,1,16,2],[21,7,21,8],[12,11,12,13],[12,14,12,15],[12,2,12,8],[12,9,12,10],[11,14,11,15],[11,16,11,20],[12,16,12,20],[15,0,15,16],[11,9,11,10],[13,4,13,5],[13,6,13,8],[6,17,6,20],[11,2,11,8],[16,7,16,8],[16,5,16,6],[13,1,13,3],[9,9,9,12],[9,13,9,20],[13,13,13,20],[16,17,16,18],[16,19,16,20],[16,3,16,4],[10,0,10,1],[9,1,9,3],[9,4,9,6],[9,7,9,8],[13,9,13,12],[8,0,8,20],[11,0,11,1],[10,2,10,8],[10,9,10,12],[10,13,10,20],[11,11,11,13],[16,0,17,0],[12,0,12,1],[29,1,29,2],[30,1,30,2],[31,1,31,2],[33,1,33,2],[34,1,34,2],[36,1,36,2],[35,1,35,2],[37,1,37,2],[38,1,38,2],[43,1,43,2],[44,1,44,2],[28,3,28,4],[28,5,28,6],[29,3,29,4],[29,5,29,6],[31,3,31,4],[31,5,31,6],[34,3,34,4],[34,5,34,6],[36,3,36,4],[36,5,36,6],[38,3,38,4],[38,5,38,6],[40,3,40,4],[40,5,40,6],[42,3,42,4],[42,5,42,6],[44,3,44,4],[30,3,30,4],[30,5,30,6],[35,3,35,4],[35,5,35,6],[39,3,39,4],[30,9,30,10],[30,11,30,12],[30,13,30,14],[30,15,30,16],[30,17,30,18],[30,19,30,20],[33,3,33,4],[33,5,33,6],[33,7,33,8],[33,9,33,10],[33,11,33,12],[33,13,33,14],[33,15,33,16],[33,17,33,18],[33,19,33,20],[35,7,35,8],[35,9,35,10],[35,11,35,12],[35,13,35,14],[35,15,35,16],[35,17,35,18],[35,19,35,20],[37,3,37,4],[37,5,37,6],[37,7,37,8],[37,9,37,10],[37,11,37,12],[37,13,37,14],[37,15,37,16],[37,17,37,18],[37,19,37,20],[39,5,39,6],[39,7,39,8],[39,9,39,10],[39,11,39,12],[39,13,39,14],[39,15,39,16],[39,17,39,18],[39,19,39,20],[41,3,41,4],[41,5,41,6],[41,7,41,8],[41,9,41,10],[41,11,41,12],[41,13,41,14],[41,15,41,16],[41,17,41,18],[41,19,41,20],[43,3,43,4],[43,5,43,6],[43,7,43,8],[43,9,43,10],[43,11,43,12],[43,13,43,14],[43,15,43,16],[43,17,43,18],[43,19,43,20],[42,7,42,8],[42,9,42,10],[42,11,42,12],[42,13,42,14],[42,15,42,16],[42,17,42,18],[42,19,42,20],[40,7,40,8],[40,9,40,10],[40,11,40,12],[40,13,40,14],[40,15,40,16],[40,17,40,18],[40,19,40,20],[59,0,59,1],[59,2,59,5],[59,6,59,7],[59,8,59,10],[59,11,59,13],[59,14,59,20],[4,13,4,20],[5,13,5,20],[44,5,44,6],[44,7,44,8],[44,9,44,10],[44,11,44,12],[44,13,44,14],[44,15,44,16],[44,17,44,18],[44,19,44,20],[20,13,20,14],[21,13,21,14],[20,17,20,18],[21,17,21,18],[22,18,22,20],[22,15,22,17],[20,11,20,12],[21,11,21,12]]}
[]
[]
[null,null,null,null,null,null,null,null,null,null,null,"SMSA Inbound Request for Rates"]
[]
[null,null,null,null,null,null,null,null,null,null,null,null,null,"Owner/ Department : IBU - BAH, Sales"]
[]
[]
[]
["Customer Details"]
["New A/c","YES/NO",null,null,"Existing Account Number",null,null,null,null,"Company Name"]
["Main Contact Name",null,null,null,null,null,null,null,null,"Company Activity"]
["Position",null,null,null,null,null,null,null,null,"P.O Box",null,null,null,null,"Website"]
["Email Id ",null,null,null,null,null,null,null,null,"Pin Code",null,null,null,null,"CR.No"]
["Telephone",null,null,null,"Fax No",null,null,null,null,"Physical Location "]
[]
["Customer Shipping Profile & Monthly Revenue Forecast"]
["Product / Dest","Zone 1",null,"Zone 2",null,"Zone 3",null,"Zone 4",null,"Zone 5",null,"Zone 6",null,"Zone 7",null,"Zone 8",null,"Zone 9",null,"Zone 10"]
[null,"Vol/Wk","Price","Vol/Wk","Price","Vol/Wk","Price","Vol/Wk","Price","Vol/Wk","Price","Vol/Wk","Price","Vol/Wk","Price","Vol/Wk","Price","Vol/Wk","Price","Vol/Wk","Price"]
["Intl Docs (SIDX)",0,{"$f":"+B19*B21*B30","v":0},0,{"$f":"+D19*D21*D30","v":0},0,{"$f":"+F19*F21*F30","v":0},0,{"$f":"+H19*H21*H30","v":0},0,{"$f":"+J19*J21*J30","v":0},0,{"$f":"+L19*L21*L30","v":0},0,{"$f":"+N19*N21*N30","v":0},0,{"$f":"+P19*P21*P30","v":0},0,{"$f":"+R19*R21*R30","v":0},0,{"$f":"+T19*T21*T30","v":0}]
["Intl Par (SIND)",0,{"$f":"+B20*B22*B35","v":0},0,{"$f":"+D20*D22*D35","v":0},0,{"$f":"+F20*F22*F35","v":0},0,{"$f":"+H20*H22*H35","v":0},0,{"$f":"+J20*J22*J35","v":0},0,{"$f":"+L20*L22*L35","v":0},0,{"$f":"+N20*N22*N35","v":0},0,{"$f":"+P20*P22*P35","v":0},0,{"$f":"+R20*R22*R35","v":0},0,{"$f":"+T20*T22*T35","v":0}]
["Avg Wt. (SIDX)",1,null,1,null,1,null,1,null,1,null,1,null,1,null,1,null,1,null,1]
["Avg Wt. (SIND)",1,null,1,null,1,null,1,null,1,null,1,null,1,null,1,null,1,null,1]
[" ",null,null,null,null,null,null,null,null,null,null,null,null,null,null,"Totlal Revenue (BHD)",null,null,{"$f":"+(C19+C20+E19+E20+G19+G20+I19+I20+K19+K20+M19+M20+O19+O20+Q19+Q20+S19+S20+U19+U20)*4","v":0}]
["Requested International Rates"]
["Product/Dest","Zone 1","%","Zone 2","%","Zone  3","%","Zone 4","%","Zone  5","%","Zone  6","%","Zone 7","%","Zone 8","%","Zone  9","%","Zone 10","%"]
[" ",{"$f":"+Tariff!$E$28","v":"BHIB/0619/FST"},null,{"$f":"+Tariff!$E$28","v":"BHIB/0619/FST"},null,{"$f":"+Tariff!$E$28","v":"BHIB/0619/FST"},null,{"$f":"+Tariff!$E$28","v":"BHIB/0619/FST"},null,{"$f":"+Tariff!$E$28","v":"BHIB/0619/FST"},null,{"$f":"+Tariff!$E$28","v":"BHIB/0619/FST"},null,{"$f":"+Tariff!$E$28","v":"BHIB/0619/FST"},null,{"$f":"+Tariff!$E$28","v":"BHIB/0619/FST"},null,{"$f":"+Tariff!$E$28","v":"BHIB/0619/FST"},null,{"$f":"+Tariff!$E$28","v":"BHIB/0619/FST"}]
[null,"Price",null,"Price",null,"Price",null,"Price",null,"Price",null,"Price",null,"Price",null,"Price",null,"Price",null,"Price"]
["SMSA Intl Doc (SIDX) "]
["0.5 kg",{"$f":"+Tariff!E3","v":11.15},null,{"$f":"+Tariff!F3","v":11.6},null,{"$f":"+Tariff!G3","v":13.55},null,{"$f":"+Tariff!H3","v":14.2},null,{"$f":"+Tariff!I3","v":15.3},null,{"$f":"+Tariff!J3","v":15.85},null,{"$f":"+Tariff!K3","v":16},null,{"$f":"+Tariff!L3","v":18.7},null,{"$f":"+Tariff!M3","v":0},null,{"$f":"+Tariff!N3","v":0}]
["1.0 kg",{"$f":"+Tariff!E4","v":17.850000000000001},null,{"$f":"+Tariff!F4","v":19},null,{"$f":"+Tariff!G4","v":21.9},null,{"$f":"+Tariff!H4","v":23.25},null,{"$f":"+Tariff!I4","v":25.5},null,{"$f":"+Tariff!J4","v":26.9},null,{"$f":"+Tariff!K4","v":29.5},null,{"$f":"+Tariff!L4","v":33.299999999999997},null,{"$f":"+Tariff!M4","v":0},null,{"$f":"+Tariff!N4","v":0}]
["1.5 kg",{"$f":"+Tariff!E5","v":20.100000000000001},null,{"$f":"+Tariff!F5","v":21.65},null,{"$f":"+Tariff!G5","v":24.85},null,{"$f":"+Tariff!H5","v":26.65},null,{"$f":"+Tariff!I5","v":29.6},null,{"$f":"+Tariff!J5","v":31.7},null,{"$f":"+Tariff!K5","v":36.65},null,{"$f":"+Tariff!L5","v":40.4},null,{"$f":"+Tariff!M5","v":0},null,{"$f":"+Tariff!N5","v":0}]
["2.0 kg",{"$f":"+Tariff!E6","v":22.4},null,{"$f":"+Tariff!F6","v":24.4},null,{"$f":"+Tariff!G6","v":27.8},null,{"$f":"+Tariff!H6","v":30},null,{"$f":"+Tariff!I6","v":33.700000000000003},null,{"$f":"+Tariff!J6","v":36.4},null,{"$f":"+Tariff!K6","v":43.8},null,{"$f":"+Tariff!L6","v":47.55},null,{"$f":"+Tariff!M6","v":0},null,{"$f":"+Tariff!N6","v":0}]
["SMSA Intl Non Docs (SIND)"]
[0.5,{"$f":"+Tariff!E7","v":12.45},null,{"$f":"+Tariff!F7","v":14.2},null,{"$f":"+Tariff!G7","v":15.45},null,{"$f":"+Tariff!H7","v":17.45},null,{"$f":"+Tariff!I7","v":18.600000000000001},null,{"$f":"+Tariff!J7","v":19.05},null,{"$f":"+Tariff!K7","v":21.1},null,{"$f":"+Tariff!L7","v":22.5},null,{"$f":"+Tariff!M7","v":0},null,{"$f":"+Tariff!N7","v":0}]
["1.0 kg",{"$f":"+Tariff!E8","v":19.2},null,{"$f":"+Tariff!F8","v":21.65},null,{"$f":"+Tariff!G8","v":23.9},null,{"$f":"+Tariff!H8","v":26.65},null,{"$f":"+Tariff!I8","v":28.95},null,{"$f":"+Tariff!J8","v":30.3},null,{"$f":"+Tariff!K8","v":34.85},null,{"$f":"+Tariff!L8","v":37.299999999999997},null,{"$f":"+Tariff!M8","v":0},null,{"$f":"+Tariff!N8","v":0}]
["2.0 kg",{"$f":"+Tariff!E10","v":22.8},null,{"$f":"+Tariff!F10","v":25.25},null,{"$f":"+Tariff!G10","v":28.45},null,{"$f":"+Tariff!H10","v":31.15},null,{"$f":"+Tariff!I10","v":34.85},null,{"$f":"+Tariff!J10","v":37.549999999999997},null,{"$f":"+Tariff!K10","v":45.55},null,{"$f":"+Tariff!L10","v":48.95},null,{"$f":"+Tariff!M10","v":0},null,{"$f":"+Tariff!N10","v":0}]
["3.0 kg",{"$f":"+Tariff!E12","v":26.4},null,{"$f":"+Tariff!F12","v":28.85},null,{"$f":"+Tariff!G12","v":32.950000000000003},null,{"$f":"+Tariff!H12","v":35.65},null,{"$f":"+Tariff!I12","v":40.799999999999997},null,{"$f":"+Tariff!J12","v":44.85},null,{"$f":"+Tariff!K12","v":56.3},null,{"$f":"+Tariff!L12","v":60.5},null,{"$f":"+Tariff!M12","v":0},null,{"$f":"+Tariff!N12","v":0}]
["4.0 kg",{"$f":"+Tariff!E14","v":34.25},null,{"$f":"+Tariff!F14","v":37.1},null,{"$f":"+Tariff!G14","v":42.75},null,{"$f":"+Tariff!H14","v":45.85},null,{"$f":"+Tariff!I14","v":53.3},null,{"$f":"+Tariff!J14","v":59.55},null,{"$f":"+Tariff!K14","v":76.5},null,{"$f":"+Tariff!L14","v":82.4},null,{"$f":"+Tariff!M14","v":0},null,{"$f":"+Tariff!N14","v":0}]
["5.0 kg",{"$f":"+Tariff!E16","v":38.4},null,{"$f":"+Tariff!F16","v":41.2},null,{"$f":"+Tariff!G16","v":47.9},null,{"$f":"+Tariff!H16","v":51},null,{"$f":"+Tariff!I16","v":60.1},null,{"$f":"+Tariff!J16","v":67.900000000000006},null,{"$f":"+Tariff!K16","v":88.75},null,{"$f":"+Tariff!L16","v":95.65},null,{"$f":"+Tariff!M16","v":0},null,{"$f":"+Tariff!N16","v":0}]
["6.0 kg",{"$f":"+Tariff!E18","v":42},null,{"$f":"+Tariff!F18","v":45.35},null,{"$f":"+Tariff!G18","v":53.05},null,{"$f":"+Tariff!H18","v":56.15},null,{"$f":"+Tariff!I18","v":66.849999999999994},null,{"$f":"+Tariff!J18","v":75.7},null,{"$f":"+Tariff!K18","v":100.5},null,{"$f":"+Tariff!L18","v":107.9},null,{"$f":"+Tariff!M18","v":0},null,{"$f":"+Tariff!N18","v":0}]
["7.0 kg",{"$f":"+Tariff!E20","v":45.6},null,{"$f":"+Tariff!F20","v":49.45},null,{"$f":"+Tariff!G20","v":58.2},null,{"$f":"+Tariff!H20","v":61.3},null,{"$f":"+Tariff!I20","v":73.599999999999994},null,{"$f":"+Tariff!J20","v":83.5},null,{"$f":"+Tariff!K20","v":112.2},null,{"$f":"+Tariff!L20","v":120.15},null,{"$f":"+Tariff!M20","v":0},null,{"$f":"+Tariff!N20","v":0}]
["8.0 kg",{"$f":"+Tariff!E22","v":49.2},null,{"$f":"+Tariff!F22","v":53.6},null,{"$f":"+Tariff!G22","v":63.35},null,{"$f":"+Tariff!H22","v":66.45},null,{"$f":"+Tariff!I22","v":80.349999999999994},null,{"$f":"+Tariff!J22","v":91.3},null,{"$f":"+Tariff!K22","v":123.95},null,{"$f":"+Tariff!L22","v":132.35},null,{"$f":"+Tariff!M22","v":0},null,{"$f":"+Tariff!N22","v":0}]
["9.0 kg",{"$f":"+Tariff!E24","v":52.8},null,{"$f":"+Tariff!F24","v":57.7},null,{"$f":"+Tariff!G24","v":68.5},null,{"$f":"+Tariff!H24","v":71.599999999999994},null,{"$f":"+Tariff!I24","v":87.1},null,{"$f":"+Tariff!J24","v":99.1},null,{"$f":"+Tariff!K24","v":135.69999999999999},null,{"$f":"+Tariff!L24","v":144.6},null,{"$f":"+Tariff!M24","v":0},null,{"$f":"+Tariff!N24","v":0}]
["10.0 kg",{"$f":"+Tariff!E26","v":56.4},null,{"$f":"+Tariff!F26","v":61.8},null,{"$f":"+Tariff!G26","v":73.650000000000006},null,{"$f":"+Tariff!H26","v":76.75},null,{"$f":"+Tariff!I26","v":93.9},null,{"$f":"+Tariff!J26","v":106.9},null,{"$f":"+Tariff!K26","v":147.4},null,{"$f":"+Tariff!L26","v":156.85},null,{"$f":"+Tariff!M26","v":0},null,{"$f":"+Tariff!N26","v":0}]
["Each Add'l 0.5 Kg",{"$f":"+Tariff!E27","v":1.7999999999999972},null,{"$f":"+Tariff!F27","v":2.0499999999999972},null,{"$f":"+Tariff!G27","v":2.5500000000000114},null,{"$f":"+Tariff!H27","v":2.5499999999999972},null,{"$f":"+Tariff!I27","v":3.4000000000000057},null,{"$f":"+Tariff!J27","v":3.9000000000000057},null,{"$f":"+Tariff!K27","v":5.8499999999999659},null,{"$f":"+Tariff!L27","v":6.1000000000000227},null,{"$f":"+Tariff!M27","v":0},null,{"$f":"+Tariff!N27","v":0}]
["Remarks/ Additional Information "]
[]
[]
[]
[]
[]
[]
["Requested By"]
["Sales Person",null,null,null,null,null,null,null,"Date",null,null,null,null,"Signature"]
[]
["Approvals"]
["Sales Manager",null,"Mohamed Diaa Eldien ",null,null,null,"Date ",null,null,null,null,"Signature"]
["Finance Manager",null,"Sunil D'souza",null,null,null,"Date ",null,null,null,null,"Signature"]
["CGM, BAH",null,"Shaji George",null,null,null,"Date ",null,null,null,null,"Signature"]
["Commercial Manager ",null,"Shibu George ",null,null,null,"Date ",null,null,null,null,"Signature"]
["Director, IBU",null,"Mohannad M.S. Khayyat",null,null,null,"Date ",null,null,null,null,"Signature"]
["Sales Coordinator:",null,"  "]

{"sheet":"Tariff","index":1,"n_rows":58,"n_cols":91,"rows_kept":58,"cut":false,"hidden":false,"merged":[[0,80,0,90],[0,3,0,13],[0,14,0,24],[0,25,0,35],[0,36,0,46],[0,47,0,57],[0,58,0,68],[0,69,0,79],[28,47,28,57],[28,58,28,68],[29,3,29,13],[57,3,57,13],[30,69,30,79],[28,3,28,13],[28,69,28,79],[28,14,28,24],[28,25,28,35],[28,36,28,46]]}
[null,null,null,"TRANSFER RATES TO MAIN SHEET",null,null,null,null,null,null,null,null,null,null,"CASH RATES",null,null,null,null,null,null,null,null,null,null,"TELESALES TARIFF - 30%",null,null,null,null,null,null,null,null,null,null,"FIELD SALES TARIFF - 50%",null,null,null,null,null,null,null,null,null,null,"SALES MANAGER TARIFF - 70%",null,null,null,null,null,null,null,null,null,null,"GENERAL MANAGER TARIFF - 80%",null,null,null,null,null,null,null,null,null,null,"CUSTOMIZED TARIFF",null,null,null,null,null,null,null,null,null,null,"PERSONALIZED TARIFF %"]
[null,null,null,null,"Z1","Z2","Z3","Z4","Z5","Z6","Z7","Z8","Z9","Z10"," ","Z1","Z2","Z3","Z4","Z5","Z6","Z7","Z8","Z9","Z10",null,"Z1","Z2","Z3","Z4","Z5","Z6","Z7","Z8","Z9","Z10",null,"Z1","Z2","Z3","Z4","Z5","Z6","Z7","Z8","Z9","Z10",null,"Z1","Z2","Z3","Z4","Z5","Z6","Z7","Z8","Z9","Z10",null,"Z1","Z2","Z3","Z4","Z5","Z6","Z7","Z8","Z9","Z10",null,"Z1","Z2","Z3","Z4","Z5","Z6","Z7","Z8","Z9","Z10",null,"Z1","Z2","Z3","Z4","Z5","Z6","Z7","Z8","Z9","Z10"]
[null,null,null,0.5,{"$f":"+E32","v":11.15},{"$f":"+F32","v":11.6},13.55,14.2,15.3,15.85,16,18.7,0,0,0.5,22.3,23.2,27.1,28.4,30.6,31.7,32,37.4,0,0,0.5,15.61,16.239999999999998,18.97,19.88,21.42,22.189999999999998,22.4,26.18,0,0,0.5,11.15,11.6,13.55,14.2,15.3,15.85,16,18.7,0,0,0.5,6.6900000000000013,6.9600000000000009,8.1300000000000026,8.52,9.1800000000000033,9.5100000000000016,9.6000000000000014,11.220000000000002,0,0,0.5,4.4600000000000009,4.6400000000000006,5.4199999999999982,5.68,6.1199999999999974,6.34,6.3999999999999986,7.4799999999999969,0,0,0.5,{"$f":"P3-(P3*CD3)","v":22.3},{"$f":"Q3-(Q3*CE3)","v":23.2},27.1,28.4,30.6,31.7,32,37.4,0,0,0.5,0,0,0,0,0,0,0,0,0,0]
[null,null,null,1,{"$f":"+E33","v":17.850000000000001},19,21.9,23.25,25.5,26.9,29.5,33.299999999999997,0,0,1,35.700000000000003,38,43.8,46.5,51,53.8,59,66.599999999999994,0,0,1,24.990000000000002,26.6,30.659999999999997,32.549999999999997,35.700000000000003,37.659999999999997,41.3,46.62,0,0,1,17.850000000000001,19,21.9,23.25,25.5,26.9,29.5,33.299999999999997,0,0,1,10.71,11.400000000000002,13.14,13.950000000000003,15.300000000000004,16.14,17.700000000000003,19.980000000000004,0,0,1,7.1400000000000006,7.5999999999999979,8.759999999999998,9.2999999999999972,10.199999999999996,10.759999999999998,11.799999999999997,13.319999999999993,0,0,1,{"$f":"P4-(P4*CD4)","v":35.700000000000003},38,43.8,46.5,51,53.8,59,66.599999999999994,0,0,1,0,0,0,0,0,0,0,0,0,0]
[null,null,null,1.5,{"$f":"+E34","v":20.100000000000001},21.65,24.85,26.65,29.6,31.7,36.65,40.4,0,0,1.5,40.200000000000003,43.3,49.7,53.3,59.2,63.4,73.3,80.8,0,0,1.5,28.14,30.31,34.790000000000006,37.31,41.44,44.379999999999995,51.31,56.56,0,0,1.5,20.100000000000001,21.65,24.85,26.65,29.6,31.7,36.65,40.4,0,0,1.5,12.060000000000002,12.990000000000002,14.910000000000004,15.990000000000002,17.760000000000005,19.020000000000003,21.990000000000002,24.240000000000002,0,0,1.5,8.0399999999999991,8.6599999999999966,9.9399999999999977,10.659999999999997,11.839999999999996,12.68,14.659999999999997,16.159999999999997,0,0,1.5,40.200000000000003,43.3,49.7,53.3,59.2,63.4,73.3,80.8,0,0,1.5,0,0,0,0,0,0,0,0,0,0]
[null,null,null,2,{"$f":"+E35","v":22.4},24.4,27.8,30,33.700000000000003,36.4,43.8,47.55,0,0,2,44.8,48.8,55.6,60,67.400000000000006,72.8,87.6,95.1,0,0,2,31.36,34.159999999999997,38.92,42,47.180000000000007,50.959999999999994,61.319999999999993,66.569999999999993,0,0,2,22.4,24.4,27.8,30,33.700000000000003,36.4,43.8,47.55,0,0,2,13.440000000000001,14.64,16.68,18,20.220000000000006,21.840000000000003,26.28,28.53,0,0,2,8.9600000000000009,9.759999999999998,11.119999999999997,12,13.479999999999997,14.559999999999995,17.519999999999996,19.019999999999996,0,0,2,44.8,48.8,55.6,60,67.400000000000006,72.8,87.6,95.1,0,0,2,0,0,0,0,0,0,0,0,0,0]
[null,null,null,0.5,{"$f":"+E36","v":12.45},14.2,15.45,17.45,18.600000000000001,19.05,21.1,22.5,0,0,0.5,24.9,28.4,30.9,34.9,37.200000000000003,38.1,42.2,45,0,0,0.5,17.43,19.88,21.63,24.43,26.040000000000003,26.67,29.540000000000003,31.5,0,0,0.5,12.45,14.2,15.45,17.45,18.600000000000001,19.05,21.1,22.5,0,0,0.5,7.4700000000000024,8.52,9.27,10.470000000000002,11.160000000000004,11.430000000000003,12.660000000000004,13.500000000000004,0,0,0.5,4.9799999999999969,5.68,6.18,6.9799999999999969,7.4399999999999977,7.6199999999999974,8.4399999999999977,9,0,0,0.5,24.9,28.4,30.9,34.9,37.200000000000003,38.1,42.2,45,0,0,0.5,0,0,0,0,0,0,0,0,0,0]
[null,null,null,1,{"$f":"+E37","v":19.2},21.65,23.9,26.65,28.95,30.3,34.85,37.299999999999997,0,0,1,38.4,43.3,47.8,53.3,57.9,60.6,69.7,74.599999999999994,0,0,1,26.88,30.31,33.46,37.31,40.53,42.42,48.790000000000006,52.22,0,0,1,19.2,21.65,23.9,26.65,28.95,30.3,34.85,37.299999999999997,0,0,1,11.52,12.990000000000002,14.340000000000003,15.990000000000002,17.370000000000005,18.18,20.910000000000004,22.380000000000003,0,0,1,7.68,8.6599999999999966,9.5599999999999952,10.659999999999997,11.579999999999998,12.119999999999997,13.939999999999998,14.919999999999995,0,0,1,38.4,43.3,47.8,53.3,57.9,60.6,69.7,74.599999999999994,0,0,1,0,0,0,0,0,0,0,0,0,0]
[null,null,null,1.5,{"$f":"+E38","v":21},23.45,26.2,28.85,31.9,33.950000000000003,40.200000000000003,43.1,0,0,1.5,42,46.9,52.4,57.7,63.8,67.900000000000006,80.400000000000006,86.2,0,0,1.5,29.4,32.83,36.68,40.39,44.66,47.53,56.28,60.34,0,0,1.5,21,23.45,26.2,28.85,31.9,33.950000000000003,40.200000000000003,43.1,0,0,1.5,12.600000000000001,14.07,15.719999999999999,17.310000000000002,19.14,20.370000000000005,24.120000000000005,25.860000000000007,0,0,1.5,8.3999999999999986,9.3799999999999955,10.479999999999997,11.54,12.759999999999998,13.579999999999998,16.079999999999998,17.239999999999995,0,0,1.5,42,46.9,52.4,57.7,63.8,67.900000000000006,80.400000000000006,86.2,0,0,1.5,0,0,0,0,0,0,0,0,0,0]
[null,null,null,2,{"$f":"+E39","v":22.8},25.25,28.45,31.15,34.85,37.549999999999997,45.55,48.95,0,0,2,45.6,50.5,56.9,62.3,69.7,75.099999999999994,91.1,97.9,0,0,2,31.92,35.35,39.83,43.61,48.790000000000006,52.569999999999993,63.769999999999996,68.53,0,0,2,22.8,25.25,28.45,31.15,34.85,37.549999999999997,45.55,48.95,0,0,2,13.680000000000003,15.150000000000006,17.07,18.690000000000005,20.910000000000004,22.53,27.330000000000005,29.370000000000005,0,0,2,9.1199999999999974,10.099999999999994,11.379999999999995,12.459999999999994,13.939999999999998,15.019999999999996,18.22,19.579999999999998,0,0,2,45.6,50.5,56.9,62.3,69.7,75.099999999999994,91.1,97.9,0,0,2,0,0,0,0,0,0,0,0,0,0]
[null,null,null,2.5,{"$f":"+E40","v":24.6},27.05,30.65,33.4,37.85,41.2,50.9,54.7,0,0,2.5,49.2,54.1,61.3,66.8,75.7,82.4,101.8,109.4,0,0,2.5,34.440000000000005,37.870000000000005,42.91,46.76,52.99,57.680000000000007,71.259999999999991,76.580000000000013,0,0,2.5,24.6,27.05,30.65,33.4,37.85,41.2,50.9,54.7,0,0,2.5,14.760000000000005,16.230000000000004,18.39,20.04,22.71,24.720000000000006,30.540000000000006,32.820000000000007,0,0,2.5,9.8399999999999963,10.82,12.259999999999998,13.36,15.14,16.480000000000004,20.36,21.879999999999995,0,0,2.5,49.2,54.1,61.3,66.8,75.7,82.4,101.8,109.4,0,0,2.5,0,0,0,0,0,0,0,0,0,0]
[null,null,null,3,{"$f":"+E41","v":26.4},28.85,32.950000000000003,35.65,40.799999999999997,44.85,56.3,60.5,0,0,3,52.8,57.7,65.900000000000006,71.3,81.599999999999994,89.7,112.6,121,0,0,3,36.96,40.39,46.13000000000001,49.91,57.12,62.790000000000006,78.819999999999993,84.7,0,0,3,26.4,28.85,32.950000000000003,35.65,40.799999999999997,44.85,56.3,60.5,0,0,3,15.840000000000003,17.310000000000002,19.770000000000003,21.39,24.480000000000004,26.910000000000004,33.78,36.300000000000011,0,0,3,10.559999999999995,11.54,13.18,14.259999999999998,16.319999999999993,17.939999999999998,22.519999999999996,24.199999999999989,0,0,3,52.8,57.7,65.900000000000006,71.3,81.599999999999994,89.7,112.6,121,0,0,3,0,0,0,0,0,0,0,0,0,0]
[null,null,null,3.5,{"$f":"+E42","v":32.200000000000003},35.049999999999997,40.200000000000003,43.3,49.95,55.4,70.400000000000006,75.75,0,0,3.5,64.400000000000006,70.099999999999994,80.400000000000006,86.6,99.9,110.8,140.80000000000001,151.5,0,0,3.5,45.080000000000005,49.069999999999993,56.28,60.62,69.930000000000007,77.56,98.56,106.05000000000001,0,0,3.5,32.200000000000003,35.049999999999997,40.200000000000003,43.3,49.95,55.4,70.400000000000006,75.75,0,0,3.5,19.320000000000007,21.03,24.120000000000005,25.980000000000004,29.970000000000013,33.240000000000009,42.240000000000009,45.45,0,0,3.5,12.879999999999995,14.019999999999996,16.079999999999998,17.319999999999993,19.97999999999999,22.159999999999997,28.159999999999997,30.299999999999997,0,0,3.5,64.400000000000006,70.099999999999994,80.400000000000006,86.6,99.9,110.8,140.80000000000001,151.5,0,0,3.5,0,0,0,0,0,0,0,0,0,0]
[null,null,null,4,{"$f":"+E43","v":34.25},37.1,42.75,45.85,53.3,59.55,76.5,82.4,0,0,4,68.5,74.2,85.5,91.7,106.6,119.1,153,164.8,0,0,4,47.95,51.94,59.85,64.19,74.62,83.37,107.1,115.36000000000001,0,0,4,34.25,37.1,42.75,45.85,53.3,59.55,76.5,82.4,0,0,4,20.550000000000004,22.260000000000005,25.650000000000006,27.510000000000005,31.980000000000004,35.730000000000004,45.900000000000006,49.440000000000012,0,0,4,13.699999999999996,14.839999999999996,17.099999999999994,18.340000000000003,21.319999999999993,23.819999999999993,30.599999999999994,32.960000000000008,0,0,4,68.5,74.2,85.5,91.7,106.6,119.1,153,164.8,0,0,4,0,0,0,0,0,0,0,0,0,0]
[null,null,null,4.5,{"$f":"+E44","v":36.35},39.15,45.35,48.45,56.7,63.7,82.65,89,0,0,4.5,72.7,78.3,90.7,96.9,113.4,127.4,165.3,178,0,0,4.5,50.89,54.81,63.49,67.830000000000013,79.38,89.18,115.71000000000001,124.6,0,0,4.5,36.35,39.15,45.35,48.45,56.7,63.7,82.65,89,0,0,4.5,21.810000000000002,23.490000000000002,27.210000000000008,29.070000000000007,34.02000000000001,38.220000000000013,49.590000000000018,53.400000000000006,0,0,4.5,14.54,15.659999999999997,18.14,19.379999999999995,22.679999999999993,25.47999999999999,33.06,35.599999999999994,0,0,4.5,72.7,78.3,90.7,96.9,113.4,127.4,165.3,178,0,0,4.5,0,0,0,0,0,0,0,0,0,0]
[null,null,null,5,{"$f":"+E45","v":38.4},41.2,47.9,51,60.1,67.900000000000006,88.75,95.65,0,0,5,76.8,82.4,95.8,102,120.2,135.80000000000001,177.5,191.3,0,0,5,53.76,57.680000000000007,67.06,71.400000000000006,84.14,95.06,124.25,133.91000000000003,0,0,5,38.4,41.2,47.9,51,60.1,67.900000000000006,88.75,95.65,0,0,5,23.04,24.720000000000006,28.740000000000009,30.600000000000009,36.06,40.740000000000009,53.250000000000014,57.390000000000015,0,0,5,15.36,16.480000000000004,19.159999999999997,20.399999999999991,24.039999999999992,27.159999999999997,35.5,38.259999999999991,0,0,5,76.8,82.4,95.8,102,120.2,135.80000000000001,177.5,191.3,0,0,5,0,0,0,0,0,0,0,0,0,0]
[null,null,null,5.5,{"$f":"+E46","v":40.200000000000003},43.3,50.5,53.6,63.45,71.8,94.65,101.75,0,0,5.5,80.400000000000006,86.6,101,107.2,126.9,143.6,189.3,203.5,0,0,5.5,56.28,60.62,70.7,75.040000000000006,88.830000000000013,100.52,132.51000000000002,142.44999999999999,0,0,5.5,40.200000000000003,43.3,50.5,53.6,63.45,71.8,94.65,101.75,0,0,5.5,24.120000000000005,25.980000000000004,30.300000000000011,32.160000000000011,38.070000000000007,43.08,56.79000000000002,61.050000000000011,0,0,5.5,16.079999999999998,17.319999999999993,20.199999999999989,21.439999999999998,25.379999999999995,28.72,37.859999999999985,40.699999999999989,0,0,5.5,80.400000000000006,86.6,101,107.2,126.9,143.6,189.3,203.5,0,0,5.5,0,0,0,0,0,0,0,0,0,0]
[null,null,null,6,{"$f":"+E47","v":42},45.35,53.05,56.15,66.849999999999994,75.7,100.5,107.9,0,0,6,84,90.7,106.1,112.3,133.69999999999999,151.4,201,215.8,0,0,6,58.8,63.49,74.27,78.61,93.59,105.98,140.69999999999999,151.06,0,0,6,42,45.35,53.05,56.15,66.849999999999994,75.7,100.5,107.9,0,0,6,25.200000000000003,27.210000000000008,31.83,33.69,40.11,45.42,60.300000000000011,64.740000000000009,0,0,6,16.799999999999997,18.14,21.22,22.459999999999994,26.739999999999995,30.28,40.199999999999989,43.16,0,0,6,84,90.7,106.1,112.3,133.69999999999999,151.4,201,215.8,0,0,6,0,0,0,0,0,0,0,0,0,0]
[null,null,null,6.5,{"$f":"+E48","v":43.8},47.4,55.65,58.75,70.2,79.599999999999994,106.35,114,0,0,6.5,87.6,94.8,111.3,117.5,140.4,159.19999999999999,212.7,228,0,0,6.5,61.319999999999993,66.36,77.91,82.25,98.28,111.44,148.88999999999999,159.60000000000002,0,0,6.5,43.8,47.4,55.65,58.75,70.2,79.599999999999994,106.35,114,0,0,6.5,26.28,28.439999999999998,33.39,35.25,42.120000000000005,47.760000000000005,63.81,68.400000000000006,0,0,6.5,17.519999999999996,18.959999999999994,22.259999999999991,23.5,28.08,31.839999999999989,42.539999999999992,45.599999999999994,0,0,6.5,87.6,{"$f":"Q19-(Q19*CE19)","v":94.8},{"$f":"R19-(R19*CF19)","v":111.3},{"$f":"S19-(S19*CG19)","v":117.5},{"$f":"T19-(T19*CH19)","v":140.4},{"$f":"U19-(U19*CI19)","v":159.19999999999999},{"$f":"V19-(V19*CJ19)","v":212.7},{"$f":"W19-(W19*CK19)","v":228},{"$f":"X19-(X19*CL19)","v":0},{"$f":"Y19-(Y19*CM19)","v":0},6.5,0,0,0,0,0,0,0,0,0,0]
[null,null,null,7,{"$f":"+E49","v":45.6},49.45,58.2,61.3,73.599999999999994,83.5,112.2,120.15,0,0,7,91.2,98.9,116.4,122.6,147.19999999999999,167,224.4,240.3,0,0,7,63.84,69.23,81.48,85.82,103.03999999999999,116.9,157.08000000000001,168.21,0,0,7,45.6,49.45,58.2,61.3,73.599999999999994,83.5,112.2,120.15,0,0,7,27.360000000000007,29.67,34.92,36.78,44.16,50.100000000000009,67.320000000000022,72.09,0,0,7,18.239999999999995,19.78,23.28,24.519999999999996,29.439999999999998,33.400000000000006,44.879999999999995,48.06,0,0,7,91.2,98.9,116.4,122.6,147.19999999999999,167,224.4,240.3,0,0,7,0,0,0,0,0,0,0,0,0,0]
[null,null,null,7.5,{"$f":"+E50","v":47.4},51.5,60.8,63.9,77,87.4,118.1,126.25,0,0,7.5,94.8,103,121.6,127.8,154,174.8,236.2,252.5,0,0,7.5,66.36,72.099999999999994,85.12,89.460000000000008,107.80000000000001,122.36000000000001,165.33999999999997,176.75,0,0,7.5,47.4,51.5,60.8,63.9,77,87.4,118.1,126.25,0,0,7.5,28.439999999999998,30.900000000000006,36.480000000000004,38.340000000000003,46.2,52.440000000000012,70.860000000000014,75.75,0,0,7.5,18.959999999999994,20.599999999999994,24.319999999999993,25.559999999999988,30.799999999999997,34.960000000000008,47.239999999999981,50.5,0,0,7.5,94.8,103,121.6,127.8,154,174.8,236.2,252.5,0,0,7.5,0,0,0,0,0,0,0,0,0,0]
[null,null,null,8,{"$f":"+E51","v":49.2},53.6,63.35,66.45,80.349999999999994,91.3,123.95,132.35,0,0,8,98.4,107.2,126.7,132.9,160.69999999999999,182.6,247.9,264.7,0,0,8,68.88000000000001,75.040000000000006,88.69,93.03,112.49,127.82,173.53,185.29,0,0,8,49.2,53.6,63.35,66.45,80.349999999999994,91.3,123.95,132.35,0,0,8,29.52000000000001,32.160000000000011,38.010000000000005,39.870000000000005,48.210000000000008,54.78,74.37,79.41,0,0,8,19.679999999999993,21.439999999999998,25.339999999999989,26.58,32.139999999999986,36.519999999999982,49.579999999999984,52.94,0,0,8,98.4,107.2,126.7,132.9,160.69999999999999,182.6,247.9,264.7,0,0,8,0,0,0,0,0,0,0,0,0,0]
[null,null,null,8.5,{"$f":"+E52","v":51},55.65,65.95,69.05,83.75,95.2,129.80000000000001,138.5,0,0,8.5,102,111.3,131.9,138.1,167.5,190.4,259.60000000000002,277,0,0,8.5,71.400000000000006,77.91,92.330000000000013,96.669999999999987,117.25,133.28,181.72000000000003,193.9,0,0,8.5,51,55.65,65.95,69.05,83.75,95.2,129.80000000000001,138.5,0,0,8.5,30.600000000000009,33.39,39.570000000000007,41.430000000000007,50.250000000000014,57.120000000000005,77.880000000000024,83.100000000000023,0,0,8.5,20.399999999999991,22.259999999999991,26.379999999999995,27.61999999999999,33.5,38.079999999999984,51.919999999999987,55.399999999999977,0,0,8.5,102,111.3,131.9,138.1,167.5,190.4,259.60000000000002,277,0,0,8.5,0,0,0,0,0,0,0,0,0,0]
[null,null,null,9,{"$f":"+E53","v":52.8},57.7,68.5,71.599999999999994,87.1,99.1,135.69999999999999,144.6,0,0,9,105.6,115.4,137,143.19999999999999,174.2,198.2,271.39999999999998,289.2,0,0,9,73.92,80.78,95.9,100.24,121.94,138.74,189.98,202.44,0,0,9,52.8,57.7,68.5,71.599999999999994,87.1,99.1,135.69999999999999,144.6,0,0,9,31.680000000000007,34.620000000000005,41.100000000000009,42.960000000000008,52.260000000000005,59.460000000000008,81.420000000000016,86.760000000000019,0,0,9,21.11999999999999,23.08,27.399999999999991,28.639999999999986,34.840000000000003,39.639999999999986,54.279999999999973,57.839999999999975,0,0,9,105.6,115.4,137,143.19999999999999,174.2,198.2,271.39999999999998,289.2,0,0,9,0,0,0,0,0,0,0,0,0,0]
[null,null,null,9.5,{"$f":"+E54","v":54.6},59.75,71.099999999999994,74.2,90.5,103,141.55000000000001,150.75,0,0,9.5,109.2,119.5,142.19999999999999,148.4,181,206,283.10000000000002,301.5,0,0,9.5,76.44,83.65,99.539999999999992,103.88,126.7,144.19999999999999,198.17000000000002,211.05,0,0,9.5,54.6,59.75,71.099999999999994,74.2,90.5,103,141.55000000000001,150.75,0,0,9.5,32.760000000000005,35.850000000000009,42.66,44.52000000000001,54.300000000000011,61.800000000000011,84.93,90.450000000000017,0,0,9.5,21.839999999999989,23.899999999999991,28.439999999999998,29.679999999999993,36.199999999999989,41.199999999999989,56.620000000000005,60.299999999999983,0,0,9.5,109.2,119.5,142.19999999999999,148.4,181,206,283.10000000000002,301.5,0,0,9.5,0,0,0,0,0,0,0,0,0,0]
[null,null,null,10,{"$f":"+E55","v":56.4},61.8,73.650000000000006,76.75,93.9,106.9,147.4,156.85,0,0,10,112.8,123.6,147.30000000000001,153.5,187.8,213.8,294.8,313.7,0,0,10,78.960000000000008,86.52,103.11000000000001,107.45,131.46,149.66000000000003,206.36,219.58999999999997,0,0,10,56.4,61.8,73.650000000000006,76.75,93.9,106.9,147.4,156.85,0,0,10,33.840000000000003,37.08,44.190000000000012,46.050000000000011,56.34,64.140000000000015,88.440000000000026,94.110000000000014,0,0,10,22.559999999999988,24.72,29.459999999999994,30.699999999999989,37.56,42.759999999999991,58.95999999999998,62.739999999999981,0,0,10,112.8,123.6,147.30000000000001,153.5,187.8,213.8,294.8,313.7,0,0,10,0,0,0,0,0,0,0,0,0,0]
[null,null,null,"Add 0.5Kg",{"$f":"+E56","v":1.7999999999999972},2.0499999999999972,2.5500000000000114,2.5499999999999972,3.4000000000000057,3.9000000000000057,5.8499999999999659,6.1000000000000227,0,0,"Add 0.5Kg",3.5999999999999943,4.0999999999999943,5.1000000000000227,5.0999999999999943,6.8000000000000114,7.8000000000000114,11.699999999999932,12.200000000000045,0,0,"Add 0.5Kg",2.519999999999996,2.8699999999999961,3.5700000000000163,3.5699999999999958,4.7600000000000087,5.460000000000008,8.1899999999999515,8.5400000000000311,0,0,"Add 0.5Kg",1.7999999999999972,2.0499999999999972,2.5500000000000114,2.5499999999999972,3.4000000000000057,3.9000000000000057,5.8499999999999659,6.1000000000000227,0,0,"Add 0.5Kg",1.0799999999999983,1.2299999999999986,1.5300000000000069,1.5299999999999985,2.0400000000000036,2.3400000000000034,3.5099999999999802,3.6600000000000144,0,0,"Add 0.5Kg",0.71999999999999886,0.81999999999999851,1.020000000000004,1.0199999999999987,1.3600000000000021,1.5600000000000023,2.3399999999999856,2.4400000000000084,0,0,"Add 0.5Kg",3.5999999999999943,4.0999999999999943,5.1000000000000227,5.0999999999999943,6.8000000000000114,7.8000000000000114,11.699999999999932,12.200000000000045,0,0,"Add 0.5Kg",0,0,0,0,0,0,0,0,0,0]
[null,null,null,null,{"$f":"+E57","v":"BHIB/0619/FST"},null,null,null,null,null,null,null,null,null,null,"BHIB/0619/CST",null,null,null,null,null,null,null,null,null,null,"BHIB/0619/TST",null,null,null,null,null,null,null,null,null,null,"BHIB/0619/FST",null,null,null,null,null,null,null,null,null,null,"BHIB/0619/SMT",null,null,null,null,null,null,null,null,null,null,"BHIB/0619/GMT",null,null,null,null,null,null,null,null,null,null,"BHIB/0619/PTA"]
[null,null,null,"TRANSFER RATES TO MAIN SHEET",null,null,null,null,null,null,null,null,null,null,"CASH RATES",null,null,null,null,null,null,null,null,null,null,"TELESALES TARIFF",null,null,null,null,null,null,null,null,null,null,"FIELD SALES TARIFF",null,null,null,null,null,null,null,null,null,null,"SALES MANAGER TARIFF",null,null,null,null,null,null,null,null,null,null,"GENERAL MANAGER TARIFF"]
[null,null,null,"TRANSFER RATES TO MAIN SHEET"]
[null,null,null,null,"Z1","Z2","Z3","Z4","Z5","Z6","Z7","Z8","Z9","Z10"]
[null,null,null,0.5,11.15,11.6,13.55,14.2,15.3,15.85,16,18.7,0,0]
[null,null,null,1,17.850000000000001,19,21.9,23.25,25.5,26.9,29.5,33.299999999999997,0,0]
[null,null,null,1.5,20.100000000000001,21.65,24.85,26.65,29.6,31.7,36.65,40.4,0,0]
[null,null,null,2,22.4,24.4,27.8,30,33.700000000000003,36.4,43.8,47.55,0,0]
[null,null,null,0.5,12.45,14.2,15.45,17.45,18.600000000000001,19.05,21.1,22.5,0,0]
[null,null,null,1,19.2,21.65,23.9,26.65,28.95,30.3,34.85,37.299999999999997,0,0]
[null,null,null,1.5,21,23.45,26.2,28.85,31.9,33.950000000000003,40.200000000000003,43.1,0,0]
[null,null,null,2,22.8,25.25,28.45,31.15,34.85,37.549999999999997,45.55,48.95,0,0]
[null,null,null,2.5,24.6,27.05,30.65,33.4,37.85,41.2,50.9,54.7,0,0]
[null,null,null,3,26.4,28.85,32.950000000000003,35.65,40.799999999999997,44.85,56.3,60.5,0,0]
[null,null,null,3.5,32.200000000000003,35.049999999999997,40.200000000000003,43.3,49.95,55.4,70.400000000000006,75.75,0,0]
[null,null,null,4,34.25,37.1,42.75,45.85,53.3,59.55,76.5,82.4,0,0]
[null,null,null,4.5,36.35,39.15,45.35,48.45,56.7,63.7,82.65,89,0,0]
[null,null,null,5,38.4,41.2,47.9,51,60.1,67.900000000000006,88.75,95.65,0,0]
[null,null,null,5.5,40.200000000000003,43.3,50.5,53.6,63.45,71.8,94.65,101.75,0,0]
[null,null,null,6,42,45.35,53.05,56.15,66.849999999999994,75.7,100.5,107.9,0,0]
[null,null,null,6.5,43.8,47.4,55.65,58.75,70.2,79.599999999999994,106.35,114,0,0]
[null,null,null,7,45.6,49.45,58.2,61.3,73.599999999999994,83.5,112.2,120.15,0,0]
[null,null,null,7.5,47.4,51.5,60.8,63.9,77,87.4,118.1,126.25,0,0]
[null,null,null,8,49.2,53.6,63.35,66.45,80.349999999999994,91.3,123.95,132.35,0,0]
[null,null,null,8.5,51,55.65,65.95,69.05,83.75,95.2,129.80000000000001,138.5,0,0]
[null,null,null,9,52.8,57.7,68.5,71.599999999999994,87.1,99.1,135.69999999999999,144.6,0,0]
[null,null,null,9.5,54.6,59.75,71.099999999999994,74.2,90.5,103,141.55000000000001,150.75,0,0]
[null,null,null,10,56.4,61.8,73.650000000000006,76.75,93.9,106.9,147.4,156.85,0,0]
[null,null,null,"Add 0.5Kg",1.7999999999999972,2.0499999999999972,2.5500000000000114,2.5499999999999972,3.4000000000000057,3.9000000000000057,5.8499999999999659,6.1000000000000227,0,0]
[null,null,null,null,"BHIB/0619/FST"]
[null,null,null,"GENERAL MANAGER TARIFF"]

{"sheet":"Zone","index":2,"n_rows":77,"n_cols":9,"rows_kept":77,"cut":false,"hidden":false,"merged":[[76,0,76,8],[2,4,2,8]]}
[]
[]
[null,null,null,null,"International Zone & Transit Guide (Import)"]
[]
["Country","Zone","Import","Country","Zone","Import","Country","Zone","Import"]
["Afghanistan",2,4,"Germany",3,3,"Oman",1,2]
["Albania",6,3,"Ghana",7,4]
["Algeria",7,4,"Gibraltar",6,3,"Pakistan",2,3]
["American Samoa",8,5,"Greece",3,4,"Panama",8,4]
["Andorra",6,4,"Greenland",8,4,"Papua New Guinea",8,5]
["Angola",7,4,"Guatemala",8,5,"Paraguay",8,4]
["Argentina",7,4,"Guyana",8,5,"Peru",7,5]
["Armenia",6,4,null,null,null,"Philippines",5,3]
["Aruba",7,5,"Haiti",8,5,"Poland",6,3]
["Australia",5,3,"Honduras Republic",7,5,"Portugal",6,3]
["Austria",3,3,"Hong Kong",5,3,"Puerto Rico",7,3]
["Azerbaijan",6,4,"Hungary",6,3]
[null,null,null,null,null,null,"Reunion, Island Of",8,4]
["Bahamas",8,5,"Iceland",6,4,"Romania",6,5]
["Bangladesh",5,3,"India",2,3,"Russian Federation",6,4]
["Barbados",8,4,"Indonesia",5,3,"Rwanda",8,4]
["Belarus",6,4,"Iraq",8,3]
["Belgium",3,2,"Ireland, Republic of",3,3,"Saipan",8,4]
["Belize",8,5,"Italy",3,3,"Samoa",8,4]
["Bermuda",7,5,"Ivory Coast",8,4,"San Marino",7,4]
["Bhutan",5,4,null,null,null,"Saudi Arabia",1,1]
["Bolivia",8,5,"Jamaica",7,4,"Senegal",7,4]
["Bonaire",7,5,"Japan",5,3,"Serbia",6,4]
["Bosnia and Herzegovina",6,5,"Jersey",7,4,"Seychelles",7,4]
["Botswana",8,3,"Jordan",2,2,"Sierra Leone",7,5]
["Brazil",7,4,null,null,null,"Singapore",5,3]
["Brunei",7,3,"Kazakhstan",6,4,"Slovakia",6,3]
["Bulgaria",6,3,"Kenya",7,3,"Slovenia",6,4]
[null,null,null,"Korea, North",5,3,"Solomon Islands",8,5]
["Cambodia",8,3,"Korea, South",5,3,"South Africa",7,3]
["Cameroon",7,5,"Kuwait",1,2,"Spain",6,2]
["Canada",4,4,null,null,null,"Sri Lanka",5,3]
["Canary Islands, The",6,4,"Laos",8,4,"St. Kitts",7,5]
["Cape Verde",8,5,"Lebanon",2,3,"St. Lucia",7,5]
["Cayman Islands",7,4,"Liberia",7,4,"St. Maarten",8,5]
["Central African Republic",7,5,"Libya",8,5,"St. Vincent",7,5]
["Chad",7,5,"Lithuania",6,3,"Sudan",2,3]
["Chile",7,4,"Luxembourg",6,3,"Suriname",8,4]
["China",5,3,null,null,null,"Swaziland",7,4]
["Colombia",7,4,"Macau",8,3,"Sweden",6,3]
["Comoros",7,4,"Macedonia, Republic Of",6,3,"Switzerland",3,4]
["Congo",7,4,"Madagascar",7,4]
["Congo, Republic of",7,4,"Malawi",7,4,"Tahiti",7,6]
["Cook Islands",7,5,"Malaysia",5,3,"Taiwan",5,3]
["Costa Rica",8,4,"Maldives",7,3,"Tajikistan",6,5]
["Croatia",6,3,"Mali",7,4,"Tanzania",7,3]
["Cuba",8,5,"Malta",6,4,"Thailand",5,3]
["Cyprus",3,3,"Marshall Islands",8,6,"Togo",7,4]
["Czech Republic, The",6,3,"Martinique",8,5,"Tonga",8,6]
[null,null,null,"Mauritania",7,4,"Trinidad and Tobago",7,4]
["Denmark",6,3,"Mauritius",7,3,"Tunisia",7,4]
["Djibouti",7,3,"Mexico",4,4,"Turkey",3,3]
["Dominica",8,4,"Moldova, Republic of",6,4]
["Dominican Republic",8,4,"Monaco",6,4,"Uganda",7,4]
[null,null,null,"Mongolia",7,5,"United Arab Emirates",1,1]
["Ecuador",7,6,"Montenegro",6,5,"United Kingdom",3,2]
["Egypt",2,3,"Morocco",7,3,"United States Of America",3,3]
["El Salvador",8,5,"Mozambique",7,3,"Uruguay",7,4]
["Eritrea",7,5,"Myanmar",7,3,"Uzbekistan",6,5]
["Estonia",6,5]
["Ethiopia",7,6,"Namibia",8,3,"Vanuatu",8,6]
[null,null,null,"Nepal",5,4,"Venezuela",7,5]
["Faroe Islands",7,4,"Netherlands, The",3,4,"Vietnam",7,3]
["Fiji Islands",8,5,"New Zealand",5,3,"Virgin Islands (British)",7,4]
["Finland",6,3,"Nicaragua",7,4,"Virgin Islands (US)",8,4]
["France",3,3,"Niger",7,4]
[null,null,null,"Nigeria",7,5,"Yemen",2,3]
["Gambia",7,5,"Niue",7,6,"Zambia",7,4]
["Georgia",6,4,"Norway",6,3,"Zimbabwe",7,4]
[]
[]
["PO Box 22446, Kingdom of Bahrain                          Telephone No. + 973-1700 3333 "]